BEGIN:VCALENDAR
VERSION:2.0
PRODID:-//Plaza Mariachi - ECPv6.15.17.1//NONSGML v1.0//EN
CALSCALE:GREGORIAN
METHOD:PUBLISH
X-WR-CALNAME:Plaza Mariachi
X-ORIGINAL-URL:https://plazamariachi.com
X-WR-CALDESC:Events for Plaza Mariachi
REFRESH-INTERVAL;VALUE=DURATION:PT1H
X-Robots-Tag:noindex
X-PUBLISHED-TTL:PT1H
BEGIN:VTIMEZONE
TZID:America/Chicago
BEGIN:DAYLIGHT
TZOFFSETFROM:-0600
TZOFFSETTO:-0500
TZNAME:CDT
DTSTART:20250309T080000
END:DAYLIGHT
BEGIN:STANDARD
TZOFFSETFROM:-0500
TZOFFSETTO:-0600
TZNAME:CST
DTSTART:20251102T070000
END:STANDARD
BEGIN:DAYLIGHT
TZOFFSETFROM:-0600
TZOFFSETTO:-0500
TZNAME:CDT
DTSTART:20260308T080000
END:DAYLIGHT
BEGIN:STANDARD
TZOFFSETFROM:-0500
TZOFFSETTO:-0600
TZNAME:CST
DTSTART:20261101T070000
END:STANDARD
BEGIN:DAYLIGHT
TZOFFSETFROM:-0600
TZOFFSETTO:-0500
TZNAME:CDT
DTSTART:20270314T080000
END:DAYLIGHT
BEGIN:STANDARD
TZOFFSETFROM:-0500
TZOFFSETTO:-0600
TZNAME:CST
DTSTART:20271107T070000
END:STANDARD
END:VTIMEZONE
BEGIN:VEVENT
DTSTART;TZID=America/Chicago:20260502T120000
DTEND;TZID=America/Chicago:20260503T000000
DTSTAMP:20260423T041706
CREATED:20260418T235437Z
LAST-MODIFIED:20260419T001020Z
UID:33978-1777723200-1777766400@plazamariachi.com
SUMMARY:Workshop: Nashville Salsa Bachata Experience
DESCRIPTION:Join us at Plaza Mariachi for the Nashville Salsa Bachata Experience (NSBX) — a full day of workshops\, performances\, and social dancing at Xenoté. \nThis special event brings together talented instructors and performers for an immersive dance experience\, featuring salsa and bachata workshops\, styling sessions\, a Jack & Jill competition\, and a high-energy social dance to close out the night. \nThroughout the day\, participants can build skills\, connect with other dancers\, and enjoy a mix of structured classes and open dance floor time in a vibrant\, welcoming environment. \n🎶 Event Schedule:\n• 12:00 PM – Alejandro & Camila Salsa Workshop (Footwork & Shine)• 1:00 PM – Bachata Workshop (Movement\, Connection & Partnerwork)• 3:00 PM – McKenzie (Ladies Styling)• 8:00 PM – Jack & Jill Competition• 9:00 PM – Social Dance• 10:00 PM – Alejandro & Camila Bachata Performance \n🎟 Tickets: Available on Boxtiks.com💲 Pre-Sale: $80 (Includes 4 hours of workshops + night social dancing) \n📅 Saturday\, May 2📍 Xenoté at Plaza Mariachi — 3955 Nolensville Pike\, Nashville\, TN 37211 \nWhether you’re looking to learn\, compete\, or just enjoy a night of dancing\, NSBX offers a complete salsa and bachata experience in one place.
URL:https://plazamariachi.com/event/workshop-nashville-salsa-bachata-experience/
LOCATION:Xenote (Plaza Mariachi’s Private Event Space)\, 3955 Nolensville Pike\, Nashville\, TN\, 37211\, United States
CATEGORIES:Dance
ATTACH;FMTTYPE=image/jpeg:https://plazamariachi.com/wp-content/uploads/2026/04/Nsbx-2-mayo-fb-.jpeg
END:VEVENT
END:VCALENDAR