BEGIN:VCALENDAR
VERSION:2.0
PRODID:-//Plaza Mariachi - ECPv6.15.17.1//NONSGML v1.0//EN
CALSCALE:GREGORIAN
METHOD:PUBLISH
X-WR-CALNAME:Plaza Mariachi
X-ORIGINAL-URL:https://plazamariachi.com
X-WR-CALDESC:Events for Plaza Mariachi
REFRESH-INTERVAL;VALUE=DURATION:PT1H
X-Robots-Tag:noindex
X-PUBLISHED-TTL:PT1H
BEGIN:VTIMEZONE
TZID:America/Chicago
BEGIN:DAYLIGHT
TZOFFSETFROM:-0600
TZOFFSETTO:-0500
TZNAME:CDT
DTSTART:20240310T080000
END:DAYLIGHT
BEGIN:STANDARD
TZOFFSETFROM:-0500
TZOFFSETTO:-0600
TZNAME:CST
DTSTART:20241103T070000
END:STANDARD
BEGIN:DAYLIGHT
TZOFFSETFROM:-0600
TZOFFSETTO:-0500
TZNAME:CDT
DTSTART:20250309T080000
END:DAYLIGHT
BEGIN:STANDARD
TZOFFSETFROM:-0500
TZOFFSETTO:-0600
TZNAME:CST
DTSTART:20251102T070000
END:STANDARD
BEGIN:DAYLIGHT
TZOFFSETFROM:-0600
TZOFFSETTO:-0500
TZNAME:CDT
DTSTART:20260308T080000
END:DAYLIGHT
BEGIN:STANDARD
TZOFFSETFROM:-0500
TZOFFSETTO:-0600
TZNAME:CST
DTSTART:20261101T070000
END:STANDARD
END:VTIMEZONE
BEGIN:VEVENT
DTSTART;TZID=America/Chicago:20251227T220000
DTEND;TZID=America/Chicago:20251228T020000
DTSTAMP:20260421T111445
CREATED:20251224T010640Z
LAST-MODIFIED:20251224T010640Z
UID:32546-1766872800-1766887200@plazamariachi.com
SUMMARY:ULTIMA Fiesta Mexicana del Año
DESCRIPTION:Close out the year with an unforgettable night of music\, dance\, and celebration at Plaza Mariachi. ULTIMA Fiesta Mexicana del Año brings high-energy performances and nonstop rhythm to the dance floor for one final Mexican fiesta before the New Year. \nEnjoy live music from Los del Rancho – Estilo 504\, plus DJ Chilango and DJ Carismático\, delivering a powerful mix of norteño\, huapango\, tribal\, and more. It’s the perfect night to dance\, celebrate\, and enjoy the vibrant sounds of regional Mexican music. \nWhether you’re coming with friends or as a couple\, this end-of-year celebration is all about great music\, movement\, and community. \n🎟️ Cover $20 \n📅 Saturday\, December 27⏰ 10 PM – 2 AM📍 Plaza Mariachi – 3955 Nolensville Pike\, Nashville\, TN \n💃🕺 Don’t miss the last Mexican party of the year!
URL:https://plazamariachi.com/event/ultima-fiesta-mexicana-del-ano/
LOCATION:Plaza Mariachi Music City\, 3955 Nolensville Pike\, Nashville\, TN\, 37211\, United States
CATEGORIES:Live Music,Regional Mexican Music
ATTACH;FMTTYPE=image/jpeg:https://plazamariachi.com/wp-content/uploads/2025/12/djs_27_dic_fb_.jpeg
GEO:36.084811;-86.73018
X-APPLE-STRUCTURED-LOCATION;VALUE=URI;X-ADDRESS=Plaza Mariachi Music City 3955 Nolensville Pike Nashville TN 37211 United States;X-APPLE-RADIUS=500;X-TITLE=3955 Nolensville Pike:geo:-86.73018,36.084811
END:VEVENT
END:VCALENDAR