BEGIN:VCALENDAR
VERSION:2.0
PRODID:-//Plaza Mariachi - ECPv6.15.17.1//NONSGML v1.0//EN
CALSCALE:GREGORIAN
METHOD:PUBLISH
X-WR-CALNAME:Plaza Mariachi
X-ORIGINAL-URL:https://plazamariachi.com
X-WR-CALDESC:Events for Plaza Mariachi
REFRESH-INTERVAL;VALUE=DURATION:PT1H
X-Robots-Tag:noindex
X-PUBLISHED-TTL:PT1H
BEGIN:VTIMEZONE
TZID:America/Chicago
BEGIN:DAYLIGHT
TZOFFSETFROM:-0600
TZOFFSETTO:-0500
TZNAME:CDT
DTSTART:20240310T080000
END:DAYLIGHT
BEGIN:STANDARD
TZOFFSETFROM:-0500
TZOFFSETTO:-0600
TZNAME:CST
DTSTART:20241103T070000
END:STANDARD
BEGIN:DAYLIGHT
TZOFFSETFROM:-0600
TZOFFSETTO:-0500
TZNAME:CDT
DTSTART:20250309T080000
END:DAYLIGHT
BEGIN:STANDARD
TZOFFSETFROM:-0500
TZOFFSETTO:-0600
TZNAME:CST
DTSTART:20251102T070000
END:STANDARD
BEGIN:DAYLIGHT
TZOFFSETFROM:-0600
TZOFFSETTO:-0500
TZNAME:CDT
DTSTART:20260308T080000
END:DAYLIGHT
BEGIN:STANDARD
TZOFFSETFROM:-0500
TZOFFSETTO:-0600
TZNAME:CST
DTSTART:20261101T070000
END:STANDARD
END:VTIMEZONE
BEGIN:VEVENT
DTSTART;TZID=America/Chicago:20250202T200000
DTEND;TZID=America/Chicago:20250202T210000
DTSTAMP:20260423T065210
CREATED:20250123T175001Z
LAST-MODIFIED:20250129T223844Z
UID:29267-1738526400-1738530000@plazamariachi.com
SUMMARY:Tribute to José José
DESCRIPTION:🎶✨ Tribute to José José ✨🎶 \nJoin us at Plaza Mariachi for a heartfelt evening honoring the legendary Mexican singer José José. Experience his timeless music performed live in this special tribute! \n📅 Date: Sunday\, February 2\, 2025\n🕗 Time: 8:00 PM – 9:00 PM\n📍 Location: Plaza Mariachi\, 3955 Nolensville Pike\, Nashville\, TN\n💵 Admission: FREE!\n👨‍👩‍👧‍👦 Open to all ages \nCelebrate the legacy of José José with family and friends in a beautiful\, music-filled evening. Don’t miss this unforgettable tribute to El Príncipe de la Canción! \n#JoseJoseTribute #LiveMusic #PlazaMariachi #FreeEvent #NashvilleEvents
URL:https://plazamariachi.com/event/tribute-to-jose-jose/
LOCATION:Plaza Mariachi Music City\, 3955 Nolensville Pike\, Nashville\, TN\, 37211\, United States
CATEGORIES:Live Music
ATTACH;FMTTYPE=image/jpeg:https://plazamariachi.com/wp-content/uploads/2025/01/jose-jose-feb-2-fb.jpg
GEO:36.084811;-86.73018
X-APPLE-STRUCTURED-LOCATION;VALUE=URI;X-ADDRESS=Plaza Mariachi Music City 3955 Nolensville Pike Nashville TN 37211 United States;X-APPLE-RADIUS=500;X-TITLE=3955 Nolensville Pike:geo:-86.73018,36.084811
END:VEVENT
END:VCALENDAR