BEGIN:VCALENDAR
VERSION:2.0
PRODID:-//Plaza Mariachi - ECPv6.15.17.1//NONSGML v1.0//EN
CALSCALE:GREGORIAN
METHOD:PUBLISH
X-WR-CALNAME:Plaza Mariachi
X-ORIGINAL-URL:https://plazamariachi.com
X-WR-CALDESC:Events for Plaza Mariachi
REFRESH-INTERVAL;VALUE=DURATION:PT1H
X-Robots-Tag:noindex
X-PUBLISHED-TTL:PT1H
BEGIN:VTIMEZONE
TZID:America/Chicago
BEGIN:DAYLIGHT
TZOFFSETFROM:-0600
TZOFFSETTO:-0500
TZNAME:CDT
DTSTART:20240310T080000
END:DAYLIGHT
BEGIN:STANDARD
TZOFFSETFROM:-0500
TZOFFSETTO:-0600
TZNAME:CST
DTSTART:20241103T070000
END:STANDARD
BEGIN:DAYLIGHT
TZOFFSETFROM:-0600
TZOFFSETTO:-0500
TZNAME:CDT
DTSTART:20250309T080000
END:DAYLIGHT
BEGIN:STANDARD
TZOFFSETFROM:-0500
TZOFFSETTO:-0600
TZNAME:CST
DTSTART:20251102T070000
END:STANDARD
BEGIN:DAYLIGHT
TZOFFSETFROM:-0600
TZOFFSETTO:-0500
TZNAME:CDT
DTSTART:20260308T080000
END:DAYLIGHT
BEGIN:STANDARD
TZOFFSETFROM:-0500
TZOFFSETTO:-0600
TZNAME:CST
DTSTART:20261101T070000
END:STANDARD
END:VTIMEZONE
BEGIN:VEVENT
DTSTART;TZID=America/Chicago:20250216T200000
DTEND;TZID=America/Chicago:20250216T210000
DTSTAMP:20260423T221119
CREATED:20250124T203958Z
LAST-MODIFIED:20250130T204407Z
UID:29280-1739736000-1739739600@plazamariachi.com
SUMMARY:Tribute to Ana Gabriel
DESCRIPTION:🎤✨ Tribute to Ana Gabriel ✨🎤 \nJoin us at Plaza Mariachi for an unforgettable evening celebrating the music of the legendary Ana Gabriel! Experience her timeless hits performed live in this special tribute. \n📅 Date: Sunday\, February 16\, 2025\n🕗 Time: 8:00 PM – 9:00 PM\n📍 Location: Plaza Mariachi\, 3955 Nolensville Pike\, Nashville\, TN\n💵 Admission: FREE!\n👨‍👩‍👧‍👦 Open to all ages \nGather your family and friends for a night of beautiful melodies\, heartfelt lyrics\, and a celebration of one of Mexico’s most iconic voices. Don’t miss this special tribute to the unforgettable Ana Gabriel! \n#AnaGabrielTribute #LiveMusic #PlazaMariachi #FreeEvent #NashvilleEvents
URL:https://plazamariachi.com/event/tribute-to-ana-gabriel/
LOCATION:Plaza Mariachi Music City\, 3955 Nolensville Pike\, Nashville\, TN\, 37211\, United States
CATEGORIES:Live Music,Regional Mexican Music
ATTACH;FMTTYPE=image/jpeg:https://plazamariachi.com/wp-content/uploads/2025/01/ANA-GABRIEL-FEB-16-FB.jpg
GEO:36.084811;-86.73018
X-APPLE-STRUCTURED-LOCATION;VALUE=URI;X-ADDRESS=Plaza Mariachi Music City 3955 Nolensville Pike Nashville TN 37211 United States;X-APPLE-RADIUS=500;X-TITLE=3955 Nolensville Pike:geo:-86.73018,36.084811
END:VEVENT
END:VCALENDAR