BEGIN:VCALENDAR
VERSION:2.0
PRODID:-//Plaza Mariachi - ECPv6.15.17.1//NONSGML v1.0//EN
CALSCALE:GREGORIAN
METHOD:PUBLISH
X-WR-CALNAME:Plaza Mariachi
X-ORIGINAL-URL:https://plazamariachi.com
X-WR-CALDESC:Events for Plaza Mariachi
REFRESH-INTERVAL;VALUE=DURATION:PT1H
X-Robots-Tag:noindex
X-PUBLISHED-TTL:PT1H
BEGIN:VTIMEZONE
TZID:America/Chicago
BEGIN:DAYLIGHT
TZOFFSETFROM:-0600
TZOFFSETTO:-0500
TZNAME:CDT
DTSTART:20250309T080000
END:DAYLIGHT
BEGIN:STANDARD
TZOFFSETFROM:-0500
TZOFFSETTO:-0600
TZNAME:CST
DTSTART:20251102T070000
END:STANDARD
BEGIN:DAYLIGHT
TZOFFSETFROM:-0600
TZOFFSETTO:-0500
TZNAME:CDT
DTSTART:20260308T080000
END:DAYLIGHT
BEGIN:STANDARD
TZOFFSETFROM:-0500
TZOFFSETTO:-0600
TZNAME:CST
DTSTART:20261101T070000
END:STANDARD
BEGIN:DAYLIGHT
TZOFFSETFROM:-0600
TZOFFSETTO:-0500
TZNAME:CDT
DTSTART:20270314T080000
END:DAYLIGHT
BEGIN:STANDARD
TZOFFSETFROM:-0500
TZOFFSETTO:-0600
TZNAME:CST
DTSTART:20271107T070000
END:STANDARD
END:VTIMEZONE
BEGIN:VEVENT
DTSTART;TZID=America/Chicago:20260325T180000
DTEND;TZID=America/Chicago:20260325T190000
DTSTAMP:20260424T040230
CREATED:20260307T231745Z
LAST-MODIFIED:20260310T002628Z
UID:33450-1774461600-1774465200@plazamariachi.com
SUMMARY:Thriving in Community - Metro Arts
DESCRIPTION:🎨 Thriving in Community – A Creative Showcase at Plaza Mariachi 🎨 \nJoin us for Thriving in Community: A Showcase of Collaboration with Three Thrive Grantees\, a special event celebrating Nashville’s vibrant creative community. This inspiring gathering highlights projects supported by Metro Arts Thrive Grants that use art to connect communities\, preserve cultural traditions\, and amplify diverse voices across the city. \nArtists\, creatives\, and community members are invited to experience how local artists are using creativity to bridge communities and spark meaningful conversations. Through presentations and artistic showcases\, this event highlights the impact of collaborative art projects happening across Nashville. \n✨ Event Highlights🎨 Presentations from three Metro Arts Thrive grantee projects🤝 Stories of collaboration and community-driven art🌎 Creative work exploring heritage\, culture\, and community engagement \nFeatured projects explore themes ranging from community art exhibitions and inclusive creative programs to cultural storytelling and neighborhood arts initiatives that celebrate the diverse voices shaping Nashville’s cultural landscape. \nAfter the presentations\, guests are invited to stay and enjoy Lotería\, food\, and community activities at Plaza Mariachi. \nThis event is presented in collaboration with Metro Arts: Nashville’s Office of Arts + Culture and is part of the national Artists Thrive Summit\, connecting creative communities across the country. \n📅 Date: Wednesday\, March 25\, 2026⏰ Time: 6:00 PM – 7:00 PM📍 Location: Plaza Mariachi – 3955 Nolensville Pike\, Nashville\, TN 37211🎟 Admission: Free and open to the public \nCome experience how art\, collaboration\, and creativity are helping Nashville thrive.
URL:https://plazamariachi.com/event/thriving-in-community-metro-arts/
LOCATION:Plaza Mariachi Music City\, 3955 Nolensville Pike\, Nashville\, TN\, 37211\, United States
CATEGORIES:Community Event
ATTACH;FMTTYPE=image/jpeg:https://plazamariachi.com/wp-content/uploads/2026/03/thriving_25_mar_fb_.jpeg
GEO:36.084811;-86.73018
X-APPLE-STRUCTURED-LOCATION;VALUE=URI;X-ADDRESS=Plaza Mariachi Music City 3955 Nolensville Pike Nashville TN 37211 United States;X-APPLE-RADIUS=500;X-TITLE=3955 Nolensville Pike:geo:-86.73018,36.084811
END:VEVENT
END:VCALENDAR