BEGIN:VCALENDAR
VERSION:2.0
PRODID:-//Plaza Mariachi - ECPv6.15.17.1//NONSGML v1.0//EN
CALSCALE:GREGORIAN
METHOD:PUBLISH
X-WR-CALNAME:Plaza Mariachi
X-ORIGINAL-URL:https://plazamariachi.com
X-WR-CALDESC:Events for Plaza Mariachi
REFRESH-INTERVAL;VALUE=DURATION:PT1H
X-Robots-Tag:noindex
X-PUBLISHED-TTL:PT1H
BEGIN:VTIMEZONE
TZID:America/Chicago
BEGIN:DAYLIGHT
TZOFFSETFROM:-0600
TZOFFSETTO:-0500
TZNAME:CDT
DTSTART:20240310T080000
END:DAYLIGHT
BEGIN:STANDARD
TZOFFSETFROM:-0500
TZOFFSETTO:-0600
TZNAME:CST
DTSTART:20241103T070000
END:STANDARD
BEGIN:DAYLIGHT
TZOFFSETFROM:-0600
TZOFFSETTO:-0500
TZNAME:CDT
DTSTART:20250309T080000
END:DAYLIGHT
BEGIN:STANDARD
TZOFFSETFROM:-0500
TZOFFSETTO:-0600
TZNAME:CST
DTSTART:20251102T070000
END:STANDARD
BEGIN:DAYLIGHT
TZOFFSETFROM:-0600
TZOFFSETTO:-0500
TZNAME:CDT
DTSTART:20260308T080000
END:DAYLIGHT
BEGIN:STANDARD
TZOFFSETFROM:-0500
TZOFFSETTO:-0600
TZNAME:CST
DTSTART:20261101T070000
END:STANDARD
END:VTIMEZONE
BEGIN:VEVENT
DTSTART;TZID=America/Chicago:20250322T173000
DTEND;TZID=America/Chicago:20250322T184500
DTSTAMP:20260424T023242
CREATED:20250305T223059Z
LAST-MODIFIED:20250305T223059Z
UID:29489-1742664600-1742669100@plazamariachi.com
SUMMARY:The Roots of Babylon - Kyle Jones Trio
DESCRIPTION:The Roots of Babylon – Kyle Jones Trio at Plaza Mariachi \n📅 Date: Saturday\, March 22\, 2025\n⏰ Time: 5:30 PM – 6:45 PM\n📍 Location: Plaza Mariachi\, Nashville \nExperience a musical journey through time with The Roots of Babylon – Kyle Jones Trio! This one-of-a-kind performance will transport you to the cradle of civilization as Kyle Jones and Charles Butler blend ancient rhythms and melodies with modern artistry. \nFeaturing the deep\, resonant sounds of the banjo—an instrument with roots tracing back to ancient Mesopotamia—alongside an array of percussive instruments from the same region\, The Roots of Babylon is more than just a concert; it’s an exploration of history through music. \nJoin us for an evening of mesmerizing sounds and cultural storytelling that bridges the past and present in a truly unforgettable performance. \n🎶 Free Event | All Ages Welcome 🎶 \nCome early and enjoy the vibrant atmosphere of Plaza Mariachi!
URL:https://plazamariachi.com/event/the-roots-of-babylon-kyle-jones-trio/
LOCATION:Plaza Mariachi Music City\, 3955 Nolensville Pike\, Nashville\, TN\, 37211\, United States
CATEGORIES:World Music
ATTACH;FMTTYPE=image/jpeg:https://plazamariachi.com/wp-content/uploads/2025/03/IMG_8836.jpg
GEO:36.084811;-86.73018
X-APPLE-STRUCTURED-LOCATION;VALUE=URI;X-ADDRESS=Plaza Mariachi Music City 3955 Nolensville Pike Nashville TN 37211 United States;X-APPLE-RADIUS=500;X-TITLE=3955 Nolensville Pike:geo:-86.73018,36.084811
END:VEVENT
END:VCALENDAR