BEGIN:VCALENDAR
VERSION:2.0
PRODID:-//Plaza Mariachi - ECPv6.15.17.1//NONSGML v1.0//EN
CALSCALE:GREGORIAN
METHOD:PUBLISH
X-WR-CALNAME:Plaza Mariachi
X-ORIGINAL-URL:https://plazamariachi.com
X-WR-CALDESC:Events for Plaza Mariachi
REFRESH-INTERVAL;VALUE=DURATION:PT1H
X-Robots-Tag:noindex
X-PUBLISHED-TTL:PT1H
BEGIN:VTIMEZONE
TZID:America/Chicago
BEGIN:DAYLIGHT
TZOFFSETFROM:-0600
TZOFFSETTO:-0500
TZNAME:CDT
DTSTART:20240310T080000
END:DAYLIGHT
BEGIN:STANDARD
TZOFFSETFROM:-0500
TZOFFSETTO:-0600
TZNAME:CST
DTSTART:20241103T070000
END:STANDARD
BEGIN:DAYLIGHT
TZOFFSETFROM:-0600
TZOFFSETTO:-0500
TZNAME:CDT
DTSTART:20250309T080000
END:DAYLIGHT
BEGIN:STANDARD
TZOFFSETFROM:-0500
TZOFFSETTO:-0600
TZNAME:CST
DTSTART:20251102T070000
END:STANDARD
BEGIN:DAYLIGHT
TZOFFSETFROM:-0600
TZOFFSETTO:-0500
TZNAME:CDT
DTSTART:20260308T080000
END:DAYLIGHT
BEGIN:STANDARD
TZOFFSETFROM:-0500
TZOFFSETTO:-0600
TZNAME:CST
DTSTART:20261101T070000
END:STANDARD
END:VTIMEZONE
BEGIN:VEVENT
DTSTART;TZID=America/Chicago:20250712T173000
DTEND;TZID=America/Chicago:20250712T210000
DTSTAMP:20260424T090552
CREATED:20250701T171034Z
LAST-MODIFIED:20250702T161642Z
UID:30266-1752341400-1752354000@plazamariachi.com
SUMMARY:Sip and Paint Workshop with Radiant Splash (21+)
DESCRIPTION:🎨 🍷 Radiant Splash: Sip & Paint Workshop 🖼🍸 \nLooking for a fun event for the weekend? Come to the Radiant Splash paint workshop\, taking place in the Xenote\, an event space inside Plaza Mariachi on Saturday\, July 12th! Our Adult Sip and Paint provides a great way to relax and express your creativity in a freeform environment that allows for personal expression. You do not need any painting experience. Embrace a lively neon aesthetic as you paint! Please see the details below: \n• Must be 21 and up \n• Freeform painting \n• 90-minute event (5:30pm and 7:30pm) \n•Glow-in-the-dark experience \n•Stencils and a variety of brushes to create cool effects are available \n• You have the option to use textured materials and decorative accents for a fun\, creative touch\, making your artwork 3-D \n• Drinks at the bar for purchase – this is NOT a BYOB event \n• Immerse yourself in a vibrant atmosphere filled with music\, photo ops\, and creative fun \nTo purchase tickets please CLICK HERE
URL:https://plazamariachi.com/event/sip-and-paint-workshop-with-radiant-splash-21/
LOCATION:Plaza Mariachi Music City\, 3955 Nolensville Pike\, Nashville\, TN\, 37211\, United States
CATEGORIES:Performance Art
ATTACH;FMTTYPE=image/jpeg:https://plazamariachi.com/wp-content/uploads/2025/07/Screen-Shot-2025-07-01-at-11.57.23-AM.jpg
GEO:36.084811;-86.73018
X-APPLE-STRUCTURED-LOCATION;VALUE=URI;X-ADDRESS=Plaza Mariachi Music City 3955 Nolensville Pike Nashville TN 37211 United States;X-APPLE-RADIUS=500;X-TITLE=3955 Nolensville Pike:geo:-86.73018,36.084811
END:VEVENT
END:VCALENDAR