BEGIN:VCALENDAR
VERSION:2.0
PRODID:-//Plaza Mariachi - ECPv6.15.17.1//NONSGML v1.0//EN
CALSCALE:GREGORIAN
METHOD:PUBLISH
X-WR-CALNAME:Plaza Mariachi
X-ORIGINAL-URL:https://plazamariachi.com
X-WR-CALDESC:Events for Plaza Mariachi
REFRESH-INTERVAL;VALUE=DURATION:PT1H
X-Robots-Tag:noindex
X-PUBLISHED-TTL:PT1H
BEGIN:VTIMEZONE
TZID:America/Chicago
BEGIN:DAYLIGHT
TZOFFSETFROM:-0600
TZOFFSETTO:-0500
TZNAME:CDT
DTSTART:20240310T080000
END:DAYLIGHT
BEGIN:STANDARD
TZOFFSETFROM:-0500
TZOFFSETTO:-0600
TZNAME:CST
DTSTART:20241103T070000
END:STANDARD
BEGIN:DAYLIGHT
TZOFFSETFROM:-0600
TZOFFSETTO:-0500
TZNAME:CDT
DTSTART:20250309T080000
END:DAYLIGHT
BEGIN:STANDARD
TZOFFSETFROM:-0500
TZOFFSETTO:-0600
TZNAME:CST
DTSTART:20251102T070000
END:STANDARD
BEGIN:DAYLIGHT
TZOFFSETFROM:-0600
TZOFFSETTO:-0500
TZNAME:CDT
DTSTART:20260308T080000
END:DAYLIGHT
BEGIN:STANDARD
TZOFFSETFROM:-0500
TZOFFSETTO:-0600
TZNAME:CST
DTSTART:20261101T070000
END:STANDARD
END:VTIMEZONE
BEGIN:VEVENT
DTSTART;TZID=America/Chicago:20250119T200000
DTEND;TZID=America/Chicago:20250119T210000
DTSTAMP:20260421T110538
CREATED:20250109T212604Z
LAST-MODIFIED:20250109T212604Z
UID:29207-1737316800-1737320400@plazamariachi.com
SUMMARY:Selena Tribute
DESCRIPTION:Selena Tribute at Plaza Mariachi\nJoin us for an unforgettable night of music and celebration as Plaza Mariachi proudly presents a Selena Tribute\, honoring the Queen of Tejano Music. Relive the magic of her iconic hits and timeless charm with a captivating live performance that will have you singing and dancing all night! \nEvent Details:\n📅 Date: Sunday\, January 19\, 2025\n🕗 Time: 8:00 PM – 9:00 PM\n📍 Location: Plaza Mariachi\, 3955 Nolensville Pike\, Nashville\, TN 37211 \nBring your family and friends to experience the energy and passion of Selena’s music. This is a free\, all-ages event you won’t want to miss! \nGet ready to sing along to your favorite hits like “Como La Flor\,” “Bidi Bidi Bom Bom\,” and “Amor Prohibido.” Celebrate the legacy of Selena with us and feel her spirit come alive once again.
URL:https://plazamariachi.com/event/selena-tribute-6/
LOCATION:Plaza Mariachi Music City\, 3955 Nolensville Pike\, Nashville\, TN\, 37211\, United States
CATEGORIES:Latin Music,Live Music
ATTACH;FMTTYPE=image/jpeg:https://plazamariachi.com/wp-content/uploads/2025/01/SELENA-SOLA-JAN-19-FB.jpg
GEO:36.084811;-86.73018
X-APPLE-STRUCTURED-LOCATION;VALUE=URI;X-ADDRESS=Plaza Mariachi Music City 3955 Nolensville Pike Nashville TN 37211 United States;X-APPLE-RADIUS=500;X-TITLE=3955 Nolensville Pike:geo:-86.73018,36.084811
END:VEVENT
END:VCALENDAR