BEGIN:VCALENDAR
VERSION:2.0
PRODID:-//Plaza Mariachi - ECPv6.15.17.1//NONSGML v1.0//EN
CALSCALE:GREGORIAN
METHOD:PUBLISH
X-WR-CALNAME:Plaza Mariachi
X-ORIGINAL-URL:https://plazamariachi.com
X-WR-CALDESC:Events for Plaza Mariachi
REFRESH-INTERVAL;VALUE=DURATION:PT1H
X-Robots-Tag:noindex
X-PUBLISHED-TTL:PT1H
BEGIN:VTIMEZONE
TZID:America/Chicago
BEGIN:DAYLIGHT
TZOFFSETFROM:-0600
TZOFFSETTO:-0500
TZNAME:CDT
DTSTART:20230312T080000
END:DAYLIGHT
BEGIN:STANDARD
TZOFFSETFROM:-0500
TZOFFSETTO:-0600
TZNAME:CST
DTSTART:20231105T070000
END:STANDARD
BEGIN:DAYLIGHT
TZOFFSETFROM:-0600
TZOFFSETTO:-0500
TZNAME:CDT
DTSTART:20240310T080000
END:DAYLIGHT
BEGIN:STANDARD
TZOFFSETFROM:-0500
TZOFFSETTO:-0600
TZNAME:CST
DTSTART:20241103T070000
END:STANDARD
BEGIN:DAYLIGHT
TZOFFSETFROM:-0600
TZOFFSETTO:-0500
TZNAME:CDT
DTSTART:20250309T080000
END:DAYLIGHT
BEGIN:STANDARD
TZOFFSETFROM:-0500
TZOFFSETTO:-0600
TZNAME:CST
DTSTART:20251102T070000
END:STANDARD
END:VTIMEZONE
BEGIN:VEVENT
DTSTART;TZID=America/Chicago:20240919T190000
DTEND;TZID=America/Chicago:20240920T000000
DTSTAMP:20260422T163145
CREATED:20240917T171545Z
LAST-MODIFIED:20240917T173700Z
UID:28595-1726772400-1726790400@plazamariachi.com
SUMMARY:Salsa Night with DJ Exquisite!
DESCRIPTION:For this week only\, our popular Salsa Night will be hosted in the Xenote event space at Plaza Mariachi! Join us on Thursday\, September 19\, for an evening filled with rhythm and fun. Enjoy salsa lessons with Alejandro Rivera and merengue lessons with Noe Monsivais. \nFree entry for everyone this week! \n\nMargaritas: $8\nBeers: $6\n\nMusic will be provided by DJ Exquisite and the night will be hosted by Johel Nadal. \nTime: 7:00 PM \nLocation: Plaza Mariachi\, 3955 Nolensville Pike\, Nashville\, TN 37211 \nDon’t miss this special edition of Salsa Night! \n 
URL:https://plazamariachi.com/event/salsa-night-with-dj-exquisite-29/
LOCATION:Xenote (Plaza Mariachi’s Private Event Space)\, 3955 Nolensville Pike\, Nashville\, TN\, 37211\, United States
CATEGORIES:Dance
ATTACH;FMTTYPE=image/jpeg:https://plazamariachi.com/wp-content/uploads/2024/09/SALSA-19-SEPT-2024-FB.jpg
END:VEVENT
END:VCALENDAR