BEGIN:VCALENDAR
VERSION:2.0
PRODID:-//Plaza Mariachi - ECPv6.15.17.1//NONSGML v1.0//EN
CALSCALE:GREGORIAN
METHOD:PUBLISH
X-WR-CALNAME:Plaza Mariachi
X-ORIGINAL-URL:https://plazamariachi.com
X-WR-CALDESC:Events for Plaza Mariachi
REFRESH-INTERVAL;VALUE=DURATION:PT1H
X-Robots-Tag:noindex
X-PUBLISHED-TTL:PT1H
BEGIN:VTIMEZONE
TZID:America/Chicago
BEGIN:DAYLIGHT
TZOFFSETFROM:-0600
TZOFFSETTO:-0500
TZNAME:CDT
DTSTART:20240310T080000
END:DAYLIGHT
BEGIN:STANDARD
TZOFFSETFROM:-0500
TZOFFSETTO:-0600
TZNAME:CST
DTSTART:20241103T070000
END:STANDARD
BEGIN:DAYLIGHT
TZOFFSETFROM:-0600
TZOFFSETTO:-0500
TZNAME:CDT
DTSTART:20250309T080000
END:DAYLIGHT
BEGIN:STANDARD
TZOFFSETFROM:-0500
TZOFFSETTO:-0600
TZNAME:CST
DTSTART:20251102T070000
END:STANDARD
BEGIN:DAYLIGHT
TZOFFSETFROM:-0600
TZOFFSETTO:-0500
TZNAME:CDT
DTSTART:20260308T080000
END:DAYLIGHT
BEGIN:STANDARD
TZOFFSETFROM:-0500
TZOFFSETTO:-0600
TZNAME:CST
DTSTART:20261101T070000
END:STANDARD
END:VTIMEZONE
BEGIN:VEVENT
DTSTART;TZID=America/Chicago:20250424T190000
DTEND;TZID=America/Chicago:20250425T000000
DTSTAMP:20260422T125611
CREATED:20250325T221503Z
LAST-MODIFIED:20250422T211018Z
UID:29609-1745521200-1745539200@plazamariachi.com
SUMMARY:Salsa Night with DJ Amanda!
DESCRIPTION:Join us for Salsa Night with DJ Amanda on Thursday\, April 10\, 2025 at Plaza Mariachi! Start the night with free dance lessons at 7:00 PM\, followed by social dancing from 8:00 PM until midnight. Enjoy an energetic evening of salsa rhythms and vibrant dancing! \nCover Charge: free tonight only.\nLocation: Plaza Mariachi\, 3955 Nolensville Pike\, Nashville\, TN 37211 \nDon’t miss this exciting night of salsa!
URL:https://plazamariachi.com/event/salsa-night-with-dj-amanda/
LOCATION:Xenote (Plaza Mariachi’s Private Event Space)\, 3955 Nolensville Pike\, Nashville\, TN\, 37211\, United States
CATEGORIES:Dance
ATTACH;FMTTYPE=image/jpeg:https://plazamariachi.com/wp-content/uploads/2025/03/SALSA-24-APRIL-FB.jpg
END:VEVENT
END:VCALENDAR