BEGIN:VCALENDAR
VERSION:2.0
PRODID:-//Plaza Mariachi - ECPv6.15.17.1//NONSGML v1.0//EN
CALSCALE:GREGORIAN
METHOD:PUBLISH
X-WR-CALNAME:Plaza Mariachi
X-ORIGINAL-URL:https://plazamariachi.com
X-WR-CALDESC:Events for Plaza Mariachi
REFRESH-INTERVAL;VALUE=DURATION:PT1H
X-Robots-Tag:noindex
X-PUBLISHED-TTL:PT1H
BEGIN:VTIMEZONE
TZID:America/Chicago
BEGIN:DAYLIGHT
TZOFFSETFROM:-0600
TZOFFSETTO:-0500
TZNAME:CDT
DTSTART:20240310T080000
END:DAYLIGHT
BEGIN:STANDARD
TZOFFSETFROM:-0500
TZOFFSETTO:-0600
TZNAME:CST
DTSTART:20241103T070000
END:STANDARD
BEGIN:DAYLIGHT
TZOFFSETFROM:-0600
TZOFFSETTO:-0500
TZNAME:CDT
DTSTART:20250309T080000
END:DAYLIGHT
BEGIN:STANDARD
TZOFFSETFROM:-0500
TZOFFSETTO:-0600
TZNAME:CST
DTSTART:20251102T070000
END:STANDARD
BEGIN:DAYLIGHT
TZOFFSETFROM:-0600
TZOFFSETTO:-0500
TZNAME:CDT
DTSTART:20260308T080000
END:DAYLIGHT
BEGIN:STANDARD
TZOFFSETFROM:-0500
TZOFFSETTO:-0600
TZNAME:CST
DTSTART:20261101T070000
END:STANDARD
END:VTIMEZONE
BEGIN:VEVENT
DTSTART;TZID=America/Chicago:20250712T210000
DTEND;TZID=America/Chicago:20250713T020000
DTSTAMP:20260424T085930
CREATED:20250630T220441Z
LAST-MODIFIED:20250630T220441Z
UID:30242-1752354000-1752372000@plazamariachi.com
SUMMARY:Rumba Colombiana "White Neon Party"
DESCRIPTION:🇨🇴✨ RUMBA COLOMBIANA ✨🇨🇴 \n“White Neon Party” so dress in white and get ready to glow on the dance floor. This is going to be an unforgettable Colombian party at the Xenote Event Space\, inside Plaza Mariachi! \n📅 Date: Saturday\, July 12\, 2025\n🕙 Doors Open: 9 PM\n💵 Cover: $20 \n🎉 Highlights of the Night: \n\nLa Hora Loca by The Krazy Hour\nDelicious Colombian food by Ahumados Al Barril\nVibrant beats by DJ Exquisite\n\n📍 Location: Xenote at Plaza Mariachi\, 3955 Nolensville Pike\, Nashville\, TN \n🎟 VIP Tables & Info: Call 615-709-3159 or 615-987-9108 \nDon’t miss this 100% Colombian night full of music\, food\, and unforgettable fun! 🇨🇴🎶🍴
URL:https://plazamariachi.com/event/rumba-colombiana-white-neon-party/
LOCATION:Xenote (Plaza Mariachi’s Private Event Space)\, 3955 Nolensville Pike\, Nashville\, TN\, 37211\, United States
CATEGORIES:Dance,Latin Music
ATTACH;FMTTYPE=image/jpeg:https://plazamariachi.com/wp-content/uploads/2025/06/RUMBA-JUL-12-FB.jpg
END:VEVENT
END:VCALENDAR