BEGIN:VCALENDAR
VERSION:2.0
PRODID:-//Plaza Mariachi - ECPv6.15.17.1//NONSGML v1.0//EN
CALSCALE:GREGORIAN
METHOD:PUBLISH
X-WR-CALNAME:Plaza Mariachi
X-ORIGINAL-URL:https://plazamariachi.com
X-WR-CALDESC:Events for Plaza Mariachi
REFRESH-INTERVAL;VALUE=DURATION:PT1H
X-Robots-Tag:noindex
X-PUBLISHED-TTL:PT1H
BEGIN:VTIMEZONE
TZID:America/Chicago
BEGIN:DAYLIGHT
TZOFFSETFROM:-0600
TZOFFSETTO:-0500
TZNAME:CDT
DTSTART:20250309T080000
END:DAYLIGHT
BEGIN:STANDARD
TZOFFSETFROM:-0500
TZOFFSETTO:-0600
TZNAME:CST
DTSTART:20251102T070000
END:STANDARD
BEGIN:DAYLIGHT
TZOFFSETFROM:-0600
TZOFFSETTO:-0500
TZNAME:CDT
DTSTART:20260308T080000
END:DAYLIGHT
BEGIN:STANDARD
TZOFFSETFROM:-0500
TZOFFSETTO:-0600
TZNAME:CST
DTSTART:20261101T070000
END:STANDARD
BEGIN:DAYLIGHT
TZOFFSETFROM:-0600
TZOFFSETTO:-0500
TZNAME:CDT
DTSTART:20270314T080000
END:DAYLIGHT
BEGIN:STANDARD
TZOFFSETFROM:-0500
TZOFFSETTO:-0600
TZNAME:CST
DTSTART:20271107T070000
END:STANDARD
END:VTIMEZONE
BEGIN:VEVENT
DTSTART;TZID=America/Chicago:20260221T210000
DTEND;TZID=America/Chicago:20260222T030000
DTSTAMP:20260421T135948
CREATED:20260214T225104Z
LAST-MODIFIED:20260214T225104Z
UID:33182-1771707600-1771729200@plazamariachi.com
SUMMARY:RUMBA COLOMBIANA – BLANCO & NEGRO
DESCRIPTION:🇨🇴⚫⚪ RUMBA COLOMBIANA – BLANCO & NEGRO ⚪⚫🇨🇴 \nGet ready for an unforgettable Colombian party at Xenote\, inside Plaza Mariachi Music City — this time with a stylish Black & White theme! \nDress to impress:\n🤍 Mujeres de blanco🖤 Hombres de negro \nExperience a night full of Colombian rhythm\, energy\, and nonstop dancing in one of Nashville’s hottest Latin party spaces. \n🎉 What to Expect:\n🎭 High-energy entertainment & La Hora Loca vibes🎧 The best Colombian party music all night💃 Salsa • Cumbia • Reggaetón • Latin Hits⚫⚪ Elegant Black & White atmosphere \n📅 Saturday\, February 21⏰ Doors Open: 9:00 PM📍 Xenote at Plaza Mariachi — 3955 Nolensville Pike\, Nashville\, TN 37211 \n📞 VIP Tables & Info: 615-709-3159 \nBring your crew\, dress in theme\, and get ready for a night of pure Colombian flavor\, style\, and celebration — only at Xenote. 🇨🇴🎶🖤🤍
URL:https://plazamariachi.com/event/rumba-colombiana-blanco-negro/
LOCATION:Xenote (Plaza Mariachi’s Private Event Space)\, 3955 Nolensville Pike\, Nashville\, TN\, 37211\, United States
CATEGORIES:Dance,Latin Music
ATTACH;FMTTYPE=image/jpeg:https://plazamariachi.com/wp-content/uploads/2026/02/rumba_21_feb_fb_.jpeg
END:VEVENT
END:VCALENDAR