BEGIN:VCALENDAR
VERSION:2.0
PRODID:-//Plaza Mariachi - ECPv6.15.17.1//NONSGML v1.0//EN
CALSCALE:GREGORIAN
METHOD:PUBLISH
X-WR-CALNAME:Plaza Mariachi
X-ORIGINAL-URL:https://plazamariachi.com
X-WR-CALDESC:Events for Plaza Mariachi
REFRESH-INTERVAL;VALUE=DURATION:PT1H
X-Robots-Tag:noindex
X-PUBLISHED-TTL:PT1H
BEGIN:VTIMEZONE
TZID:America/Chicago
BEGIN:DAYLIGHT
TZOFFSETFROM:-0600
TZOFFSETTO:-0500
TZNAME:CDT
DTSTART:20250309T080000
END:DAYLIGHT
BEGIN:STANDARD
TZOFFSETFROM:-0500
TZOFFSETTO:-0600
TZNAME:CST
DTSTART:20251102T070000
END:STANDARD
BEGIN:DAYLIGHT
TZOFFSETFROM:-0600
TZOFFSETTO:-0500
TZNAME:CDT
DTSTART:20260308T080000
END:DAYLIGHT
BEGIN:STANDARD
TZOFFSETFROM:-0500
TZOFFSETTO:-0600
TZNAME:CST
DTSTART:20261101T070000
END:STANDARD
BEGIN:DAYLIGHT
TZOFFSETFROM:-0600
TZOFFSETTO:-0500
TZNAME:CDT
DTSTART:20270314T080000
END:DAYLIGHT
BEGIN:STANDARD
TZOFFSETFROM:-0500
TZOFFSETTO:-0600
TZNAME:CST
DTSTART:20271107T070000
END:STANDARD
END:VTIMEZONE
BEGIN:VEVENT
DTSTART;TZID=America/Chicago:20260117T220000
DTEND;TZID=America/Chicago:20260118T020000
DTSTAMP:20260421T113659
CREATED:20260111T031006Z
LAST-MODIFIED:20260111T031006Z
UID:32770-1768687200-1768701600@plazamariachi.com
SUMMARY:Noches Norteñas - Los Admirables del Norte & DJ Chilango
DESCRIPTION:Get ready for another high-energy Saturday night at Plaza Mariachi with Noches Norteñas\, featuring live Regional Mexican music\, nonstop dancing\, and a Cumbia Dance Contest with cash prizes. \nThis Saturday\, enjoy a live performance by Los Admirables del Norte\, bringing dance-ready norteño rhythms and cumbia beats straight to the dance floor. Leading the night is DJ Chilango\, keeping the energy high with his signature mix and crowd-favorite party tracks. \nFrom the first song to the last dance\, this night is all about music\, movement\, and competition — with a chance to show off your best steps in the Cumbia Dance Contest\, where first place takes home a cash prize. \n🎶 Live Performance: Los Admirables del Norte🎧 Music by: DJ Chilango🔥 Norteño • Cumbia • Baile • Party Hits💃 Cumbia Dance Contest💰 Cash Prize for First Place \n🎟 FREE admission before 9 PM \n📅 Saturday\, January 17⏰ Night Event📍 Plaza Mariachi — 3955 Nolensville Pike\, Nashville\, TN 37211 \nBring your friends\, hit the dance floor\, and experience another unforgettable Saturday night — only at Plaza Mariachi.
URL:https://plazamariachi.com/event/noches-nortenas-los-admirables-del-norte-dj-chilango/
LOCATION:Plaza Mariachi Music City\, 3955 Nolensville Pike\, Nashville\, TN\, 37211\, United States
CATEGORIES:Live Music,Regional Mexican Music
ATTACH;FMTTYPE=image/jpeg:https://plazamariachi.com/wp-content/uploads/2026/01/chilango_17_jan_fb_.jpeg
GEO:36.084811;-86.73018
X-APPLE-STRUCTURED-LOCATION;VALUE=URI;X-ADDRESS=Plaza Mariachi Music City 3955 Nolensville Pike Nashville TN 37211 United States;X-APPLE-RADIUS=500;X-TITLE=3955 Nolensville Pike:geo:-86.73018,36.084811
END:VEVENT
END:VCALENDAR