BEGIN:VCALENDAR
VERSION:2.0
PRODID:-//Plaza Mariachi - ECPv6.15.17.1//NONSGML v1.0//EN
CALSCALE:GREGORIAN
METHOD:PUBLISH
X-WR-CALNAME:Plaza Mariachi
X-ORIGINAL-URL:https://plazamariachi.com
X-WR-CALDESC:Events for Plaza Mariachi
REFRESH-INTERVAL;VALUE=DURATION:PT1H
X-Robots-Tag:noindex
X-PUBLISHED-TTL:PT1H
BEGIN:VTIMEZONE
TZID:America/Chicago
BEGIN:DAYLIGHT
TZOFFSETFROM:-0600
TZOFFSETTO:-0500
TZNAME:CDT
DTSTART:20250309T080000
END:DAYLIGHT
BEGIN:STANDARD
TZOFFSETFROM:-0500
TZOFFSETTO:-0600
TZNAME:CST
DTSTART:20251102T070000
END:STANDARD
BEGIN:DAYLIGHT
TZOFFSETFROM:-0600
TZOFFSETTO:-0500
TZNAME:CDT
DTSTART:20260308T080000
END:DAYLIGHT
BEGIN:STANDARD
TZOFFSETFROM:-0500
TZOFFSETTO:-0600
TZNAME:CST
DTSTART:20261101T070000
END:STANDARD
BEGIN:DAYLIGHT
TZOFFSETFROM:-0600
TZOFFSETTO:-0500
TZNAME:CDT
DTSTART:20270314T080000
END:DAYLIGHT
BEGIN:STANDARD
TZOFFSETFROM:-0500
TZOFFSETTO:-0600
TZNAME:CST
DTSTART:20271107T070000
END:STANDARD
END:VTIMEZONE
BEGIN:VEVENT
DTSTART;TZID=America/Chicago:20260220T210000
DTEND;TZID=America/Chicago:20260221T000000
DTSTAMP:20260422T013202
CREATED:20260214T221532Z
LAST-MODIFIED:20260217T011347Z
UID:33177-1771621200-1771632000@plazamariachi.com
SUMMARY:Noche Bélica - Apreciados del Alto y Grupo Nieve
DESCRIPTION:Get ready for a high-energy Friday night at Plaza Mariachi Music City with Noche Bélica\, featuring powerful regional urbano sounds\, live bands\, and nonstop dancing. \nThis Friday\, the stage ignites with Apreciados del Alto performing live\, bringing their hard-hitting corridos and crowd favorites to Nashville. The night continues with Grupo Nieve\, delivering an electrifying performance packed with energy\, attitude\, and pure regional vibes. \n🎶 Live Performances: Apreciados del Alto & Grupo Nieve🔥 Corridos • Regional Urbano • Bélicas💃 High-Energy Show & Nonstop Party Atmosphere \n📞 Info & VIP: (615) 709-3159\n💲Cover: $20 \n⏰ Doors Open: 9:00 PM📅 Friday\, February 20📍 Plaza Mariachi — 3955 Nolensville Pike\, Nashville\, TN 37211🔞 16+ Event \nBring your crew and experience a Friday night full of intensity\, music\, and pure regional energy — only at Plaza Mariachi. 🔥🎶
URL:https://plazamariachi.com/event/noche-belica-apreciados-del-alto-y-grupo-nieve/
LOCATION:Plaza Mariachi Music City\, 3955 Nolensville Pike\, Nashville\, TN\, 37211\, United States
CATEGORIES:Live Music
ATTACH;FMTTYPE=image/jpeg:https://plazamariachi.com/wp-content/uploads/2026/02/be__lica_20_feb_led_.jpeg
GEO:36.084811;-86.73018
X-APPLE-STRUCTURED-LOCATION;VALUE=URI;X-ADDRESS=Plaza Mariachi Music City 3955 Nolensville Pike Nashville TN 37211 United States;X-APPLE-RADIUS=500;X-TITLE=3955 Nolensville Pike:geo:-86.73018,36.084811
END:VEVENT
END:VCALENDAR