BEGIN:VCALENDAR
VERSION:2.0
PRODID:-//Plaza Mariachi - ECPv6.15.17.1//NONSGML v1.0//EN
CALSCALE:GREGORIAN
METHOD:PUBLISH
X-WR-CALNAME:Plaza Mariachi
X-ORIGINAL-URL:https://plazamariachi.com
X-WR-CALDESC:Events for Plaza Mariachi
REFRESH-INTERVAL;VALUE=DURATION:PT1H
X-Robots-Tag:noindex
X-PUBLISHED-TTL:PT1H
BEGIN:VTIMEZONE
TZID:America/Chicago
BEGIN:DAYLIGHT
TZOFFSETFROM:-0600
TZOFFSETTO:-0500
TZNAME:CDT
DTSTART:20250309T080000
END:DAYLIGHT
BEGIN:STANDARD
TZOFFSETFROM:-0500
TZOFFSETTO:-0600
TZNAME:CST
DTSTART:20251102T070000
END:STANDARD
BEGIN:DAYLIGHT
TZOFFSETFROM:-0600
TZOFFSETTO:-0500
TZNAME:CDT
DTSTART:20260308T080000
END:DAYLIGHT
BEGIN:STANDARD
TZOFFSETFROM:-0500
TZOFFSETTO:-0600
TZNAME:CST
DTSTART:20261101T070000
END:STANDARD
BEGIN:DAYLIGHT
TZOFFSETFROM:-0600
TZOFFSETTO:-0500
TZNAME:CDT
DTSTART:20270314T080000
END:DAYLIGHT
BEGIN:STANDARD
TZOFFSETFROM:-0500
TZOFFSETTO:-0600
TZNAME:CST
DTSTART:20271107T070000
END:STANDARD
END:VTIMEZONE
BEGIN:VEVENT
DTSTART;TZID=America/Chicago:20260217T173000
DTEND;TZID=America/Chicago:20260217T210000
DTSTAMP:20260422T122759
CREATED:20260212T034143Z
LAST-MODIFIED:20260212T203314Z
UID:33146-1771349400-1771362000@plazamariachi.com
SUMMARY:Music City Worship with Joshua Aaron and Yaron Cherniak Worship Concert
DESCRIPTION:Get ready to lift your spirits live with Joshua Aaron and Yaron Cherniak’s epic worship vibes! \n\n\n\n\nJoshua Aaron and Yaron Cherniak Worship Concert\nMusic City Worship hosts the Joshua Aaron and Yaron Cherniak Worship Concert! Get ready for an unforgettable night of music and praise at Plaza Mariachi in Nashville\, TN. Join us on February 17\, 2026 at 6:30 PM (Central Time)\, doors open at 5:30PM\, parking is free. \n\nTo RSVP CLICK HERE \n\nDon’t miss out on this incredible opportunity to worship together with Joshua and Yaron! A love offering will be taken to bless them and their ministries. See you there!
URL:https://plazamariachi.com/event/music-city-worship-with-joshua-aaron-and-yaron-cherniak-worship-concert/
LOCATION:Plaza Mariachi Music City\, 3955 Nolensville Pike\, Nashville\, TN\, 37211\, United States
CATEGORIES:Religious
ATTACH;FMTTYPE=image/jpeg:https://plazamariachi.com/wp-content/uploads/2026/02/Pink-and-Black-Modern-Music-Event-Instagram-Post.jpg
GEO:36.084811;-86.73018
X-APPLE-STRUCTURED-LOCATION;VALUE=URI;X-ADDRESS=Plaza Mariachi Music City 3955 Nolensville Pike Nashville TN 37211 United States;X-APPLE-RADIUS=500;X-TITLE=3955 Nolensville Pike:geo:-86.73018,36.084811
END:VEVENT
END:VCALENDAR