BEGIN:VCALENDAR
VERSION:2.0
PRODID:-//Plaza Mariachi - ECPv6.15.17.1//NONSGML v1.0//EN
CALSCALE:GREGORIAN
METHOD:PUBLISH
X-WR-CALNAME:Plaza Mariachi
X-ORIGINAL-URL:https://plazamariachi.com
X-WR-CALDESC:Events for Plaza Mariachi
REFRESH-INTERVAL;VALUE=DURATION:PT1H
X-Robots-Tag:noindex
X-PUBLISHED-TTL:PT1H
BEGIN:VTIMEZONE
TZID:America/Chicago
BEGIN:DAYLIGHT
TZOFFSETFROM:-0600
TZOFFSETTO:-0500
TZNAME:CDT
DTSTART:20230312T080000
END:DAYLIGHT
BEGIN:STANDARD
TZOFFSETFROM:-0500
TZOFFSETTO:-0600
TZNAME:CST
DTSTART:20231105T070000
END:STANDARD
BEGIN:DAYLIGHT
TZOFFSETFROM:-0600
TZOFFSETTO:-0500
TZNAME:CDT
DTSTART:20240310T080000
END:DAYLIGHT
BEGIN:STANDARD
TZOFFSETFROM:-0500
TZOFFSETTO:-0600
TZNAME:CST
DTSTART:20241103T070000
END:STANDARD
BEGIN:DAYLIGHT
TZOFFSETFROM:-0600
TZOFFSETTO:-0500
TZNAME:CDT
DTSTART:20250309T080000
END:DAYLIGHT
BEGIN:STANDARD
TZOFFSETFROM:-0500
TZOFFSETTO:-0600
TZNAME:CST
DTSTART:20251102T070000
END:STANDARD
END:VTIMEZONE
BEGIN:VEVENT
DTSTART;TZID=America/Chicago:20241215T163000
DTEND;TZID=America/Chicago:20241215T173000
DTSTAMP:20260424T174313
CREATED:20240530T222322Z
LAST-MODIFIED:20241204T212544Z
UID:28063-1734280200-1734283800@plazamariachi.com
SUMMARY:Michael Lynch Duo
DESCRIPTION:🎄 Michael Lynch Duo Christmas Performance at Plaza Mariachi 🎶 \nJoin us at Plaza Mariachi on Sunday\, December 15\, 2024\, from 4:30 PM to 5:30 PM for a delightful performance by the Michael Lynch Duo! Enjoy an hour of beautifully performed Christmas songs that will fill your heart with holiday cheer. \n📅 When: Sunday\, December 15\, 2024\n⏰ Time: 4:30 PM – 5:30 PM\n📍 Where: Plaza Mariachi\, 3955 Nolensville Pike\, Nashville\, TN 37211 \nBring your family and friends to celebrate the season with festive music in a warm and inviting atmosphere. 🎶✨
URL:https://plazamariachi.com/event/michael-lynch-duo/
LOCATION:Plaza Mariachi Music City\, 3955 Nolensville Pike\, Nashville\, TN\, 37211\, United States
CATEGORIES:Live Music
ATTACH;FMTTYPE=image/jpeg:https://plazamariachi.com/wp-content/uploads/2019/09/Michael-Lynch-e1592959956199.jpeg
GEO:36.084811;-86.73018
X-APPLE-STRUCTURED-LOCATION;VALUE=URI;X-ADDRESS=Plaza Mariachi Music City 3955 Nolensville Pike Nashville TN 37211 United States;X-APPLE-RADIUS=500;X-TITLE=3955 Nolensville Pike:geo:-86.73018,36.084811
END:VEVENT
END:VCALENDAR