BEGIN:VCALENDAR
VERSION:2.0
PRODID:-//Plaza Mariachi - ECPv6.15.17.1//NONSGML v1.0//EN
CALSCALE:GREGORIAN
METHOD:PUBLISH
X-WR-CALNAME:Plaza Mariachi
X-ORIGINAL-URL:https://plazamariachi.com
X-WR-CALDESC:Events for Plaza Mariachi
REFRESH-INTERVAL;VALUE=DURATION:PT1H
X-Robots-Tag:noindex
X-PUBLISHED-TTL:PT1H
BEGIN:VTIMEZONE
TZID:America/Chicago
BEGIN:DAYLIGHT
TZOFFSETFROM:-0600
TZOFFSETTO:-0500
TZNAME:CDT
DTSTART:20240310T080000
END:DAYLIGHT
BEGIN:STANDARD
TZOFFSETFROM:-0500
TZOFFSETTO:-0600
TZNAME:CST
DTSTART:20241103T070000
END:STANDARD
BEGIN:DAYLIGHT
TZOFFSETFROM:-0600
TZOFFSETTO:-0500
TZNAME:CDT
DTSTART:20250309T080000
END:DAYLIGHT
BEGIN:STANDARD
TZOFFSETFROM:-0500
TZOFFSETTO:-0600
TZNAME:CST
DTSTART:20251102T070000
END:STANDARD
BEGIN:DAYLIGHT
TZOFFSETFROM:-0600
TZOFFSETTO:-0500
TZNAME:CDT
DTSTART:20260308T080000
END:DAYLIGHT
BEGIN:STANDARD
TZOFFSETFROM:-0500
TZOFFSETTO:-0600
TZNAME:CST
DTSTART:20261101T070000
END:STANDARD
END:VTIMEZONE
BEGIN:VEVENT
DTSTART;TZID=America/Chicago:20251228T150000
DTEND;TZID=America/Chicago:20251228T160000
DTSTAMP:20260421T171525
CREATED:20251221T223931Z
LAST-MODIFIED:20251221T223931Z
UID:32524-1766934000-1766937600@plazamariachi.com
SUMMARY:Luna Morena Duo
DESCRIPTION:Get ready to kick off the afternoon with vibrant music\, festive rhythms\, and nonstop energy at Luna Morena Duo! \nEnjoy an exciting afternoon performance featuring: \n🎶 Luna Morena Duo – 3:00 PM to 4:00 PM \nFrom upbeat cumbia classics to lively dance melodies that bring joy to every corner of the room\, Luna Morena Duo sets the perfect tone for an afternoon full of entertainment. \n📅 Sunday\, December 28\, 2025📍 Plaza Mariachi\, 3955 Nolensville Pike\, Nashville\, TN 37211
URL:https://plazamariachi.com/event/luna-morena-duo/
LOCATION:Plaza Mariachi Music City\, 3955 Nolensville Pike\, Nashville\, TN\, 37211\, United States
CATEGORIES:Cumbia,Live Music
ATTACH;FMTTYPE=image/jpeg:https://plazamariachi.com/wp-content/uploads/2025/12/Luna-Morena.jpg
GEO:36.084811;-86.73018
X-APPLE-STRUCTURED-LOCATION;VALUE=URI;X-ADDRESS=Plaza Mariachi Music City 3955 Nolensville Pike Nashville TN 37211 United States;X-APPLE-RADIUS=500;X-TITLE=3955 Nolensville Pike:geo:-86.73018,36.084811
END:VEVENT
END:VCALENDAR