BEGIN:VCALENDAR
VERSION:2.0
PRODID:-//Plaza Mariachi - ECPv6.15.17.1//NONSGML v1.0//EN
CALSCALE:GREGORIAN
METHOD:PUBLISH
X-WR-CALNAME:Plaza Mariachi
X-ORIGINAL-URL:https://plazamariachi.com
X-WR-CALDESC:Events for Plaza Mariachi
REFRESH-INTERVAL;VALUE=DURATION:PT1H
X-Robots-Tag:noindex
X-PUBLISHED-TTL:PT1H
BEGIN:VTIMEZONE
TZID:America/Chicago
BEGIN:DAYLIGHT
TZOFFSETFROM:-0600
TZOFFSETTO:-0500
TZNAME:CDT
DTSTART:20230312T080000
END:DAYLIGHT
BEGIN:STANDARD
TZOFFSETFROM:-0500
TZOFFSETTO:-0600
TZNAME:CST
DTSTART:20231105T070000
END:STANDARD
BEGIN:DAYLIGHT
TZOFFSETFROM:-0600
TZOFFSETTO:-0500
TZNAME:CDT
DTSTART:20240310T080000
END:DAYLIGHT
BEGIN:STANDARD
TZOFFSETFROM:-0500
TZOFFSETTO:-0600
TZNAME:CST
DTSTART:20241103T070000
END:STANDARD
BEGIN:DAYLIGHT
TZOFFSETFROM:-0600
TZOFFSETTO:-0500
TZNAME:CDT
DTSTART:20250309T080000
END:DAYLIGHT
BEGIN:STANDARD
TZOFFSETFROM:-0500
TZOFFSETTO:-0600
TZNAME:CST
DTSTART:20251102T070000
END:STANDARD
END:VTIMEZONE
BEGIN:VEVENT
DTSTART;TZID=America/Chicago:20241130T203000
DTEND;TZID=America/Chicago:20241130T220000
DTSTAMP:20260424T174758
CREATED:20241120T213018Z
LAST-MODIFIED:20241120T213018Z
UID:28953-1732998600-1733004000@plazamariachi.com
SUMMARY:Los Kumbia Brothers
DESCRIPTION:Get ready for an incredible night with Los Kumbia Brothers at Plaza Mariachi\, Nashville\, on Saturday! The event will start at 8:30 PM and last until 10:00 PM. Come and enjoy their infectious rhythm in a lively and family-friendly atmosphere. All ages are welcome. Don’t miss this evening filled with music and fun! \n¡Prepárate para una noche increíble con Los Kumbia Brothers en Plaza Mariachi\, Nashville\, el sabado! El evento comenzará a las 8:30 PM y se extenderá hasta las 10:00 PM. Ven a disfrutar de su contagioso ritmo en un ambiente animado y familiar. Todas las edades son bienvenidas. ¡No te pierdas esta velada llena de música y diversión!
URL:https://plazamariachi.com/event/los-kumbia-brothers-8/
LOCATION:Plaza Mariachi Music City\, 3955 Nolensville Pike\, Nashville\, TN\, 37211\, United States
CATEGORIES:Dance,Latin Music,Live Music
ATTACH;FMTTYPE=image/jpeg:https://plazamariachi.com/wp-content/uploads/2024/05/Kumbia-Brothers.jpeg
GEO:36.084811;-86.73018
X-APPLE-STRUCTURED-LOCATION;VALUE=URI;X-ADDRESS=Plaza Mariachi Music City 3955 Nolensville Pike Nashville TN 37211 United States;X-APPLE-RADIUS=500;X-TITLE=3955 Nolensville Pike:geo:-86.73018,36.084811
END:VEVENT
END:VCALENDAR