BEGIN:VCALENDAR
VERSION:2.0
PRODID:-//Plaza Mariachi - ECPv6.15.17.1//NONSGML v1.0//EN
CALSCALE:GREGORIAN
METHOD:PUBLISH
X-WR-CALNAME:Plaza Mariachi
X-ORIGINAL-URL:https://plazamariachi.com
X-WR-CALDESC:Events for Plaza Mariachi
REFRESH-INTERVAL;VALUE=DURATION:PT1H
X-Robots-Tag:noindex
X-PUBLISHED-TTL:PT1H
BEGIN:VTIMEZONE
TZID:America/Chicago
BEGIN:DAYLIGHT
TZOFFSETFROM:-0600
TZOFFSETTO:-0500
TZNAME:CDT
DTSTART:20230312T080000
END:DAYLIGHT
BEGIN:STANDARD
TZOFFSETFROM:-0500
TZOFFSETTO:-0600
TZNAME:CST
DTSTART:20231105T070000
END:STANDARD
BEGIN:DAYLIGHT
TZOFFSETFROM:-0600
TZOFFSETTO:-0500
TZNAME:CDT
DTSTART:20240310T080000
END:DAYLIGHT
BEGIN:STANDARD
TZOFFSETFROM:-0500
TZOFFSETTO:-0600
TZNAME:CST
DTSTART:20241103T070000
END:STANDARD
BEGIN:DAYLIGHT
TZOFFSETFROM:-0600
TZOFFSETTO:-0500
TZNAME:CDT
DTSTART:20250309T080000
END:DAYLIGHT
BEGIN:STANDARD
TZOFFSETFROM:-0500
TZOFFSETTO:-0600
TZNAME:CST
DTSTART:20251102T070000
END:STANDARD
END:VTIMEZONE
BEGIN:VEVENT
DTSTART;TZID=America/Chicago:20241208T213000
DTEND;TZID=America/Chicago:20241208T230000
DTSTAMP:20260420T175423
CREATED:20241101T211755Z
LAST-MODIFIED:20241126T231220Z
UID:28862-1733693400-1733698800@plazamariachi.com
SUMMARY:Los Canarios de Tierra Caliente
DESCRIPTION:Enjoy an unforgettable evening with Los Canarios de Tierra Caliente at Plaza Mariachi. Immerse yourself in the heart of regional Mexican music with this band that promises to deliver a performance full of passion and tradition. This event is open to all ages\, but it is important to remember that a parent or guardian must accompany minors. Don’t miss the chance to experience the magic of Los Canarios de Tierra Caliente and share a unique musical experience.\nWe look forward to seeing you there! \nDisfruta de una noche inolvidable con Los Canarios de Tierra Caliente en Plaza Mariachi. Sumérgete en el corazón de la música regional mexicana con esta banda que promete entregarte una actuación llena de pasión y tradición. Este evento está abierto a todas las edades\, pero es importante recordar que los menores deben estar acompañados por un padre o tutor. No te pierdas la oportunidad de vivir la magia de Los Canarios de Tierra Caliente y de compartir una experiencia musical única. ¡Te esperamos!
URL:https://plazamariachi.com/event/los-canarios-de-tierra-caliente-6/
LOCATION:Plaza Mariachi Music City\, 3955 Nolensville Pike\, Nashville\, TN\, 37211\, United States
CATEGORIES:Latin Music,Live Music
ATTACH;FMTTYPE=image/jpeg:https://plazamariachi.com/wp-content/uploads/2024/05/Canarios.jpg
GEO:36.084811;-86.73018
X-APPLE-STRUCTURED-LOCATION;VALUE=URI;X-ADDRESS=Plaza Mariachi Music City 3955 Nolensville Pike Nashville TN 37211 United States;X-APPLE-RADIUS=500;X-TITLE=3955 Nolensville Pike:geo:-86.73018,36.084811
END:VEVENT
END:VCALENDAR