BEGIN:VCALENDAR
VERSION:2.0
PRODID:-//Plaza Mariachi - ECPv6.15.17.1//NONSGML v1.0//EN
CALSCALE:GREGORIAN
METHOD:PUBLISH
X-WR-CALNAME:Plaza Mariachi
X-ORIGINAL-URL:https://plazamariachi.com
X-WR-CALDESC:Events for Plaza Mariachi
REFRESH-INTERVAL;VALUE=DURATION:PT1H
X-Robots-Tag:noindex
X-PUBLISHED-TTL:PT1H
BEGIN:VTIMEZONE
TZID:America/Chicago
BEGIN:DAYLIGHT
TZOFFSETFROM:-0600
TZOFFSETTO:-0500
TZNAME:CDT
DTSTART:20250309T080000
END:DAYLIGHT
BEGIN:STANDARD
TZOFFSETFROM:-0500
TZOFFSETTO:-0600
TZNAME:CST
DTSTART:20251102T070000
END:STANDARD
BEGIN:DAYLIGHT
TZOFFSETFROM:-0600
TZOFFSETTO:-0500
TZNAME:CDT
DTSTART:20260308T080000
END:DAYLIGHT
BEGIN:STANDARD
TZOFFSETFROM:-0500
TZOFFSETTO:-0600
TZNAME:CST
DTSTART:20261101T070000
END:STANDARD
BEGIN:DAYLIGHT
TZOFFSETFROM:-0600
TZOFFSETTO:-0500
TZNAME:CDT
DTSTART:20270314T080000
END:DAYLIGHT
BEGIN:STANDARD
TZOFFSETFROM:-0500
TZOFFSETTO:-0600
TZNAME:CST
DTSTART:20271107T070000
END:STANDARD
END:VTIMEZONE
BEGIN:VEVENT
DTSTART;TZID=America/Chicago:20260117T190000
DTEND;TZID=America/Chicago:20260117T200000
DTSTAMP:20260421T101736
CREATED:20260111T023636Z
LAST-MODIFIED:20260111T023636Z
UID:32764-1768676400-1768680000@plazamariachi.com
SUMMARY:Live Belly Dance Showcase
DESCRIPTION:Live Belly Dance Showcase ✨\nExperience an evening of rhythm\, movement\, and artistry as Plaza Mariachi presents a Live Belly Dance Showcase\, featuring captivating performances by talented dancers visiting from Orlando\, Florida. \nThis special showcase highlights the beauty and energy of belly dance through multiple live performances throughout the evening. Each set brings its own style\, expression\, and stage presence\, creating a vibrant atmosphere that blends music\, movement\, and cultural flair. \nWhether you’re a longtime fan of dance or simply looking for something unique to enjoy on a Saturday night\, this event offers an engaging live experience in the heart of Music City. \n✨ Show Times:🕖 7:00 PM🕢 7:20 PM🕗 7:50 PM \n📅 Saturday\, January 17📍 Plaza Mariachi — 3955 Nolensville Pike\, Nashville\, TN 37211 \nJoin us for an elegant and energetic night of live dance performances — only at Plaza Mariachi.
URL:https://plazamariachi.com/event/live-belly-dance-showcase/
LOCATION:Plaza Mariachi Music City\, 3955 Nolensville Pike\, Nashville\, TN\, 37211\, United States
CATEGORIES:Cultural Event,Dance,Performance Art
ATTACH;FMTTYPE=image/jpeg:https://plazamariachi.com/wp-content/uploads/2026/01/belly_jan17_fb.jpg
GEO:36.084811;-86.73018
X-APPLE-STRUCTURED-LOCATION;VALUE=URI;X-ADDRESS=Plaza Mariachi Music City 3955 Nolensville Pike Nashville TN 37211 United States;X-APPLE-RADIUS=500;X-TITLE=3955 Nolensville Pike:geo:-86.73018,36.084811
END:VEVENT
END:VCALENDAR