BEGIN:VCALENDAR
VERSION:2.0
PRODID:-//Plaza Mariachi - ECPv6.15.17.1//NONSGML v1.0//EN
CALSCALE:GREGORIAN
METHOD:PUBLISH
X-WR-CALNAME:Plaza Mariachi
X-ORIGINAL-URL:https://plazamariachi.com
X-WR-CALDESC:Events for Plaza Mariachi
REFRESH-INTERVAL;VALUE=DURATION:PT1H
X-Robots-Tag:noindex
X-PUBLISHED-TTL:PT1H
BEGIN:VTIMEZONE
TZID:America/Chicago
BEGIN:DAYLIGHT
TZOFFSETFROM:-0600
TZOFFSETTO:-0500
TZNAME:CDT
DTSTART:20240310T080000
END:DAYLIGHT
BEGIN:STANDARD
TZOFFSETFROM:-0500
TZOFFSETTO:-0600
TZNAME:CST
DTSTART:20241103T070000
END:STANDARD
BEGIN:DAYLIGHT
TZOFFSETFROM:-0600
TZOFFSETTO:-0500
TZNAME:CDT
DTSTART:20250309T080000
END:DAYLIGHT
BEGIN:STANDARD
TZOFFSETFROM:-0500
TZOFFSETTO:-0600
TZNAME:CST
DTSTART:20251102T070000
END:STANDARD
BEGIN:DAYLIGHT
TZOFFSETFROM:-0600
TZOFFSETTO:-0500
TZNAME:CDT
DTSTART:20260308T080000
END:DAYLIGHT
BEGIN:STANDARD
TZOFFSETFROM:-0500
TZOFFSETTO:-0600
TZNAME:CST
DTSTART:20261101T070000
END:STANDARD
END:VTIMEZONE
BEGIN:VEVENT
DTSTART;TZID=America/Chicago:20250614T110000
DTEND;TZID=America/Chicago:20250614T210000
DTSTAMP:20260423T061411
CREATED:20250606T164743Z
LAST-MODIFIED:20250610T214030Z
UID:29968-1749898800-1749934800@plazamariachi.com
SUMMARY:Latino Food Fest at Plaza Mariachi!
DESCRIPTION:🌎 Latino Food Fest at Plaza Mariachi! 🇲🇽🇨🇺🇨🇴🇦🇷\n🗓 POSTPONED DUE TO WEATHER\n🕚 11 AM – 9 PM\n📍 Plaza Mariachi (Outdoor Event)\n🎟 Free Admission \nGet ready to savor the rich and diverse flavors of Latin America at the Latino Food Fest! Join us outside at Plaza Mariachi for a full day of authentic dishes from across Latin America — from tacos and empanadas to tamales\, arepas\, pupusas\, ceviche\, and more! \n🎶 Enjoy live music\n🍹 Refreshing drinks\n🎉 Family-friendly fun and kids’ entertainment \nCelebrate Latino culture through food\, rhythm\, and community. Bring your appetite\, your dancing shoes\, and the whole family — admission is free and the memories will be priceless! \n📍 3955 Nolensville Pike\, Nashville\, TN 37211
URL:https://plazamariachi.com/event/latino-food-fest-at-plaza-mariachi/
LOCATION:Plaza Mariachi Outdoor Entertainment\, 3955 Nolensville Pike\, Nashville\, TN\, 37211\, United States
CATEGORIES:Festival,Food and Beverage
ATTACH;FMTTYPE=image/jpeg:https://plazamariachi.com/wp-content/uploads/2025/06/Latino-food-fest-Postponed-fb.jpg
GEO:36.084904;-86.72968
X-APPLE-STRUCTURED-LOCATION;VALUE=URI;X-ADDRESS=Plaza Mariachi Outdoor Entertainment 3955 Nolensville Pike Nashville TN 37211 United States;X-APPLE-RADIUS=500;X-TITLE=3955 Nolensville Pike:geo:-86.72968,36.084904
END:VEVENT
END:VCALENDAR