BEGIN:VCALENDAR
VERSION:2.0
PRODID:-//Plaza Mariachi - ECPv6.15.17.1//NONSGML v1.0//EN
CALSCALE:GREGORIAN
METHOD:PUBLISH
X-WR-CALNAME:Plaza Mariachi
X-ORIGINAL-URL:https://plazamariachi.com
X-WR-CALDESC:Events for Plaza Mariachi
REFRESH-INTERVAL;VALUE=DURATION:PT1H
X-Robots-Tag:noindex
X-PUBLISHED-TTL:PT1H
BEGIN:VTIMEZONE
TZID:America/Chicago
BEGIN:DAYLIGHT
TZOFFSETFROM:-0600
TZOFFSETTO:-0500
TZNAME:CDT
DTSTART:20240310T080000
END:DAYLIGHT
BEGIN:STANDARD
TZOFFSETFROM:-0500
TZOFFSETTO:-0600
TZNAME:CST
DTSTART:20241103T070000
END:STANDARD
BEGIN:DAYLIGHT
TZOFFSETFROM:-0600
TZOFFSETTO:-0500
TZNAME:CDT
DTSTART:20250309T080000
END:DAYLIGHT
BEGIN:STANDARD
TZOFFSETFROM:-0500
TZOFFSETTO:-0600
TZNAME:CST
DTSTART:20251102T070000
END:STANDARD
BEGIN:DAYLIGHT
TZOFFSETFROM:-0600
TZOFFSETTO:-0500
TZNAME:CDT
DTSTART:20260308T080000
END:DAYLIGHT
BEGIN:STANDARD
TZOFFSETFROM:-0500
TZOFFSETTO:-0600
TZNAME:CST
DTSTART:20261101T070000
END:STANDARD
END:VTIMEZONE
BEGIN:VEVENT
DTSTART;TZID=America/Chicago:20250207T210000
DTEND;TZID=America/Chicago:20250208T020000
DTSTAMP:20260423T154153
CREATED:20250122T194938Z
LAST-MODIFIED:20250122T194938Z
UID:29254-1738962000-1738980000@plazamariachi.com
SUMMARY:La Energia Norteña y Los Pescadores Del Rio Conchos
DESCRIPTION:Don’t miss the amazing concert featuring LA ENERGÍA NORTEÑA & LOS PESCADORES DEL RÍO CONCHOS at Plaza Mariachi\, Nashville\, TN! This exciting musical event will be packed with rhythm and energy\, showcasing the incredible performances of La Energía Norteña and Los Pescadores Del Río Conchos. This event is perfect for music lovers ages 18 and up. Join us on Friday\, February 7\, 2025\, at 9:00 PM for an unforgettable night. For more information and to purchase tickets\, visit Ticketón. You won’t want to miss this! \n¡No te pierdas el concierto de LA ENERGÍA NORTEÑA & LOS PESCADORES DEL RÍO CONCHOS en Plaza Mariachi\, Nashville\, TN! Este espectacular evento musical estará lleno de ritmo y energía\, presentando a los reconocidos artistas La Energía Norteña y Los Pescadores Del Río Conchos. Este concierto es ideal para los amantes de la buena música que son mayores de 18 años. Te esperamos el viernes\, 07 de febrero de 2025\, a las 9:00 PM para que seas parte de una noche increíble. Para más información y compra de boletos\, visita nuestra página web Ticketón. ¡No te lo puedes perder!
URL:https://plazamariachi.com/event/la-energia-nortena-y-los-pescadores-del-rio-conchos/
LOCATION:Plaza Mariachi Music City\, 3955 Nolensville Pike\, Nashville\, TN\, 37211\, United States
CATEGORIES:Regional Mexican Music
ATTACH;FMTTYPE=image/jpeg:https://plazamariachi.com/wp-content/uploads/2025/01/NORTENO-FEB-7-SQ.jpg
GEO:36.084811;-86.73018
X-APPLE-STRUCTURED-LOCATION;VALUE=URI;X-ADDRESS=Plaza Mariachi Music City 3955 Nolensville Pike Nashville TN 37211 United States;X-APPLE-RADIUS=500;X-TITLE=3955 Nolensville Pike:geo:-86.73018,36.084811
END:VEVENT
END:VCALENDAR