BEGIN:VCALENDAR
VERSION:2.0
PRODID:-//Plaza Mariachi - ECPv6.15.17.1//NONSGML v1.0//EN
CALSCALE:GREGORIAN
METHOD:PUBLISH
X-WR-CALNAME:Plaza Mariachi
X-ORIGINAL-URL:https://plazamariachi.com
X-WR-CALDESC:Events for Plaza Mariachi
REFRESH-INTERVAL;VALUE=DURATION:PT1H
X-Robots-Tag:noindex
X-PUBLISHED-TTL:PT1H
BEGIN:VTIMEZONE
TZID:America/Chicago
BEGIN:DAYLIGHT
TZOFFSETFROM:-0600
TZOFFSETTO:-0500
TZNAME:CDT
DTSTART:20240310T080000
END:DAYLIGHT
BEGIN:STANDARD
TZOFFSETFROM:-0500
TZOFFSETTO:-0600
TZNAME:CST
DTSTART:20241103T070000
END:STANDARD
BEGIN:DAYLIGHT
TZOFFSETFROM:-0600
TZOFFSETTO:-0500
TZNAME:CDT
DTSTART:20250309T080000
END:DAYLIGHT
BEGIN:STANDARD
TZOFFSETFROM:-0500
TZOFFSETTO:-0600
TZNAME:CST
DTSTART:20251102T070000
END:STANDARD
BEGIN:DAYLIGHT
TZOFFSETFROM:-0600
TZOFFSETTO:-0500
TZNAME:CDT
DTSTART:20260308T080000
END:DAYLIGHT
BEGIN:STANDARD
TZOFFSETFROM:-0500
TZOFFSETTO:-0600
TZNAME:CST
DTSTART:20261101T070000
END:STANDARD
END:VTIMEZONE
BEGIN:VEVENT
DTSTART;TZID=America/Chicago:20251129T160000
DTEND;TZID=America/Chicago:20251129T170000
DTSTAMP:20260421T110651
CREATED:20251107T001148Z
LAST-MODIFIED:20251107T001148Z
UID:32007-1764432000-1764435600@plazamariachi.com
SUMMARY:Kids Lotería!!!
DESCRIPTION:Join us for this special family event where kids can play the classic Mexican game of Lotería\, win fun prizes\, and enjoy a lively\, community atmosphere. It’s the perfect way to celebrate culture\, tradition\, and family time — all in one colorful hour of fun! \n🎯 Prizes & Games for Kids🎨 Family-friendly activities and entertainment🎁 Free to participate — prizes for winners! \n📅 Date: Saturday\, November 29\, 2025🕓 Time: 4:00 PM – 5:00 PM📍 Location: Plaza Mariachi\, 3955 Nolensville Pike\, Nashville\, TN 37211 \nBring your family and friends for an afternoon of smiles\, surprises\, and cultural fun at Lotería Kids — only at Plaza Mariachi Music City!
URL:https://plazamariachi.com/event/kids-loteria/
LOCATION:Plaza Mariachi Music City\, 3955 Nolensville Pike\, Nashville\, TN\, 37211\, United States
CATEGORIES:Family Fun Event,Games
ATTACH;FMTTYPE=image/jpeg:https://plazamariachi.com/wp-content/uploads/2025/11/loteria_kids_29_nov_fb.jpg
GEO:36.084811;-86.73018
X-APPLE-STRUCTURED-LOCATION;VALUE=URI;X-ADDRESS=Plaza Mariachi Music City 3955 Nolensville Pike Nashville TN 37211 United States;X-APPLE-RADIUS=500;X-TITLE=3955 Nolensville Pike:geo:-86.73018,36.084811
END:VEVENT
END:VCALENDAR