BEGIN:VCALENDAR
VERSION:2.0
PRODID:-//Plaza Mariachi - ECPv6.15.17.1//NONSGML v1.0//EN
CALSCALE:GREGORIAN
METHOD:PUBLISH
X-WR-CALNAME:Plaza Mariachi
X-ORIGINAL-URL:https://plazamariachi.com
X-WR-CALDESC:Events for Plaza Mariachi
REFRESH-INTERVAL;VALUE=DURATION:PT1H
X-Robots-Tag:noindex
X-PUBLISHED-TTL:PT1H
BEGIN:VTIMEZONE
TZID:America/Chicago
BEGIN:DAYLIGHT
TZOFFSETFROM:-0600
TZOFFSETTO:-0500
TZNAME:CDT
DTSTART:20250309T080000
END:DAYLIGHT
BEGIN:STANDARD
TZOFFSETFROM:-0500
TZOFFSETTO:-0600
TZNAME:CST
DTSTART:20251102T070000
END:STANDARD
BEGIN:DAYLIGHT
TZOFFSETFROM:-0600
TZOFFSETTO:-0500
TZNAME:CDT
DTSTART:20260308T080000
END:DAYLIGHT
BEGIN:STANDARD
TZOFFSETFROM:-0500
TZOFFSETTO:-0600
TZNAME:CST
DTSTART:20261101T070000
END:STANDARD
BEGIN:DAYLIGHT
TZOFFSETFROM:-0600
TZOFFSETTO:-0500
TZNAME:CDT
DTSTART:20270314T080000
END:DAYLIGHT
BEGIN:STANDARD
TZOFFSETFROM:-0500
TZOFFSETTO:-0600
TZNAME:CST
DTSTART:20271107T070000
END:STANDARD
END:VTIMEZONE
BEGIN:VEVENT
DTSTART;TZID=America/Chicago:20260329T200000
DTEND;TZID=America/Chicago:20260329T213000
DTSTAMP:20260421T020449
CREATED:20260421T004229Z
LAST-MODIFIED:20260421T004229Z
UID:33995-1774814400-1774819800@plazamariachi.com
SUMMARY:Juan Gabriel Tribute
DESCRIPTION:Experience an unforgettable tribute to the legendary Juan Gabriel as Gera Hurtado\, visiting from Texas\, brings his powerful voice and emotional performance to the Plaza Mariachi stage. \nEnjoy the timeless hits\, heartfelt ballads\, and iconic style of “El Divo de Juárez” in a show that celebrates his music\, legacy\, and unmatched artistry. \nThe night also features live performances by Grupo Impala Norte and Gundito Pineda y su Grupo Universal\, bringing even more regional Mexican energy and music to the stage. \n🎤 Tribute Performance: Gera Hurtado – Tributo a Juan Gabriel🎶 Live Music by: Grupo Impala Norte & Gundito Pineda y su Grupo Universal🔥 Regional Mexican • Live Music • Dance Floor💃 Music and dancing all night \n🎟 FREE Admission \n📅 Sunday\, April 26\, 2026📍 Plaza Mariachi — 3955 Nolensville Pike\, Nashville\, TN 37211 \nJoin us for a night of music\, nostalgia\, and celebration honoring one of Latin music’s greatest icons — only at Plaza Mariachi.
URL:https://plazamariachi.com/event/juan-gabriel-tribute-4-26-26/
LOCATION:Plaza Mariachi Music City\, 3955 Nolensville Pike\, Nashville\, TN\, 37211\, United States
CATEGORIES:Live Music
ATTACH;FMTTYPE=image/jpeg:https://plazamariachi.com/wp-content/uploads/2026/04/Juanga-26-abril-fb-.jpeg
GEO:36.084811;-86.73018
X-APPLE-STRUCTURED-LOCATION;VALUE=URI;X-ADDRESS=Plaza Mariachi Music City 3955 Nolensville Pike Nashville TN 37211 United States;X-APPLE-RADIUS=500;X-TITLE=3955 Nolensville Pike:geo:-86.73018,36.084811
END:VEVENT
END:VCALENDAR