BEGIN:VCALENDAR
VERSION:2.0
PRODID:-//Plaza Mariachi - ECPv6.15.17.1//NONSGML v1.0//EN
CALSCALE:GREGORIAN
METHOD:PUBLISH
X-WR-CALNAME:Plaza Mariachi
X-ORIGINAL-URL:https://plazamariachi.com
X-WR-CALDESC:Events for Plaza Mariachi
REFRESH-INTERVAL;VALUE=DURATION:PT1H
X-Robots-Tag:noindex
X-PUBLISHED-TTL:PT1H
BEGIN:VTIMEZONE
TZID:America/Chicago
BEGIN:DAYLIGHT
TZOFFSETFROM:-0600
TZOFFSETTO:-0500
TZNAME:CDT
DTSTART:20250309T080000
END:DAYLIGHT
BEGIN:STANDARD
TZOFFSETFROM:-0500
TZOFFSETTO:-0600
TZNAME:CST
DTSTART:20251102T070000
END:STANDARD
BEGIN:DAYLIGHT
TZOFFSETFROM:-0600
TZOFFSETTO:-0500
TZNAME:CDT
DTSTART:20260308T080000
END:DAYLIGHT
BEGIN:STANDARD
TZOFFSETFROM:-0500
TZOFFSETTO:-0600
TZNAME:CST
DTSTART:20261101T070000
END:STANDARD
BEGIN:DAYLIGHT
TZOFFSETFROM:-0600
TZOFFSETTO:-0500
TZNAME:CDT
DTSTART:20270314T080000
END:DAYLIGHT
BEGIN:STANDARD
TZOFFSETFROM:-0500
TZOFFSETTO:-0600
TZNAME:CST
DTSTART:20271107T070000
END:STANDARD
END:VTIMEZONE
BEGIN:VEVENT
DTSTART;TZID=America/Chicago:20260104T200000
DTEND;TZID=America/Chicago:20260104T210000
DTSTAMP:20260421T171525
CREATED:20251227T233427Z
LAST-MODIFIED:20251227T233427Z
UID:32623-1767556800-1767560400@plazamariachi.com
SUMMARY:Jenny Rivera Tribute
DESCRIPTION:Get ready for a powerful night of regional Mexican music as Plaza Mariachi presents a special Tribute to Jenny Rivera. Experience an emotional and high-energy live performance honoring one of the most iconic voices in Mexican music. \n🎤 Performing Live: \n\n\nMónica Reyna (Direct from Los Angeles) \n\n\nLos Canarios de Tierra Caliente \n\n\nLos Admirables del Norte \n\n\nFrom heartfelt ballads to unforgettable ranchera classics\, this tribute captures the passion\, strength\, and legacy that made Jenny Rivera a legend. \nBring your friends and family for an evening filled with music\, emotion\, and celebration — only at Plaza Mariachi. \n🎟 FREE ENTRY📅 Sunday\, January 4📍 Plaza Mariachi — 3955 Nolensville Pike\, Nashville\, TN 37211
URL:https://plazamariachi.com/event/jenny-rivera-tribute/
LOCATION:Plaza Mariachi Music City\, 3955 Nolensville Pike\, Nashville\, TN\, 37211\, United States
ATTACH;FMTTYPE=image/jpeg:https://plazamariachi.com/wp-content/uploads/2025/12/jenny_4_jan_fb_.jpeg
GEO:36.084811;-86.73018
X-APPLE-STRUCTURED-LOCATION;VALUE=URI;X-ADDRESS=Plaza Mariachi Music City 3955 Nolensville Pike Nashville TN 37211 United States;X-APPLE-RADIUS=500;X-TITLE=3955 Nolensville Pike:geo:-86.73018,36.084811
END:VEVENT
END:VCALENDAR