BEGIN:VCALENDAR
VERSION:2.0
PRODID:-//Plaza Mariachi - ECPv6.15.17.1//NONSGML v1.0//EN
CALSCALE:GREGORIAN
METHOD:PUBLISH
X-WR-CALNAME:Plaza Mariachi
X-ORIGINAL-URL:https://plazamariachi.com
X-WR-CALDESC:Events for Plaza Mariachi
REFRESH-INTERVAL;VALUE=DURATION:PT1H
X-Robots-Tag:noindex
X-PUBLISHED-TTL:PT1H
BEGIN:VTIMEZONE
TZID:America/Chicago
BEGIN:DAYLIGHT
TZOFFSETFROM:-0600
TZOFFSETTO:-0500
TZNAME:CDT
DTSTART:20240310T080000
END:DAYLIGHT
BEGIN:STANDARD
TZOFFSETFROM:-0500
TZOFFSETTO:-0600
TZNAME:CST
DTSTART:20241103T070000
END:STANDARD
BEGIN:DAYLIGHT
TZOFFSETFROM:-0600
TZOFFSETTO:-0500
TZNAME:CDT
DTSTART:20250309T080000
END:DAYLIGHT
BEGIN:STANDARD
TZOFFSETFROM:-0500
TZOFFSETTO:-0600
TZNAME:CST
DTSTART:20251102T070000
END:STANDARD
BEGIN:DAYLIGHT
TZOFFSETFROM:-0600
TZOFFSETTO:-0500
TZNAME:CDT
DTSTART:20260308T080000
END:DAYLIGHT
BEGIN:STANDARD
TZOFFSETFROM:-0500
TZOFFSETTO:-0600
TZNAME:CST
DTSTART:20261101T070000
END:STANDARD
END:VTIMEZONE
BEGIN:VEVENT
DTSTART;TZID=America/Chicago:20250208T110000
DTEND;TZID=America/Chicago:20250208T160000
DTSTAMP:20260423T185808
CREATED:20250122T205230Z
LAST-MODIFIED:20250205T204900Z
UID:29259-1739012400-1739030400@plazamariachi.com
SUMMARY:Valentine's Day Kids Party
DESCRIPTION:💖 Fun-Filled Kids Entertainment Schedule:\n🎬 11:00 AM – Beauty and the Beast Movie 🌹\nStart the day with a magical screening of Beauty and the Beast\, a heartwarming tale of love and adventure! \n📖 1:00 PM – Story Time with Mrs. Diane\nGather around for a charming story session\, perfect for little book lovers! \n🎨 1:00 PM – Arts & Crafts with HFF\nLet creativity bloom with Valentine’s Day-themed arts and crafts for kids to make and take home. \n🎭 1:00 PM – Character Meet & Greet\nTake FREE pictures with characters\, creating magical memories! \n🦁 2:00 PM – Animal Tales\nA fun and educational storytelling session featuring exciting animal tales. \n💃 3:00 PM – Kids Dance Party\nWrap up the celebration with a high-energy dance party\, where kids can show off their best moves! \n🎈 A Sweet Celebration of Love & Fun!\nJoin us for a FREE\, family-friendly event full of stories\, crafts\, music\, and joy\, perfect for celebrating the season of love with your little ones! \n📢 Don’t miss out—mark your calendars and bring the whole family!
URL:https://plazamariachi.com/event/indoor-winter-kids-party-4/
LOCATION:Plaza Mariachi Music City\, 3955 Nolensville Pike\, Nashville\, TN\, 37211\, United States
CATEGORIES:Children's Entertainment and Events
ATTACH;FMTTYPE=image/jpeg:https://plazamariachi.com/wp-content/uploads/2025/01/KIDS-FEB-8-FB-1.jpg
GEO:36.084811;-86.73018
X-APPLE-STRUCTURED-LOCATION;VALUE=URI;X-ADDRESS=Plaza Mariachi Music City 3955 Nolensville Pike Nashville TN 37211 United States;X-APPLE-RADIUS=500;X-TITLE=3955 Nolensville Pike:geo:-86.73018,36.084811
END:VEVENT
END:VCALENDAR