BEGIN:VCALENDAR
VERSION:2.0
PRODID:-//Plaza Mariachi - ECPv6.15.17.1//NONSGML v1.0//EN
CALSCALE:GREGORIAN
METHOD:PUBLISH
X-WR-CALNAME:Plaza Mariachi
X-ORIGINAL-URL:https://plazamariachi.com
X-WR-CALDESC:Events for Plaza Mariachi
REFRESH-INTERVAL;VALUE=DURATION:PT1H
X-Robots-Tag:noindex
X-PUBLISHED-TTL:PT1H
BEGIN:VTIMEZONE
TZID:America/Chicago
BEGIN:DAYLIGHT
TZOFFSETFROM:-0600
TZOFFSETTO:-0500
TZNAME:CDT
DTSTART:20240310T080000
END:DAYLIGHT
BEGIN:STANDARD
TZOFFSETFROM:-0500
TZOFFSETTO:-0600
TZNAME:CST
DTSTART:20241103T070000
END:STANDARD
BEGIN:DAYLIGHT
TZOFFSETFROM:-0600
TZOFFSETTO:-0500
TZNAME:CDT
DTSTART:20250309T080000
END:DAYLIGHT
BEGIN:STANDARD
TZOFFSETFROM:-0500
TZOFFSETTO:-0600
TZNAME:CST
DTSTART:20251102T070000
END:STANDARD
BEGIN:DAYLIGHT
TZOFFSETFROM:-0600
TZOFFSETTO:-0500
TZNAME:CDT
DTSTART:20260308T080000
END:DAYLIGHT
BEGIN:STANDARD
TZOFFSETFROM:-0500
TZOFFSETTO:-0600
TZNAME:CST
DTSTART:20261101T070000
END:STANDARD
END:VTIMEZONE
BEGIN:VEVENT
DTSTART;TZID=America/Chicago:20251129T210000
DTEND;TZID=America/Chicago:20251130T020000
DTSTAMP:20260421T110656
CREATED:20251122T021530Z
LAST-MODIFIED:20251122T025036Z
UID:32130-1764450000-1764468000@plazamariachi.com
SUMMARY:Guaracha vs Reggaeton
DESCRIPTION:Get ready for an unforgettable night inside Xenote at Plaza Mariachi as Guaracha vs Reggaeton takes over the dance floor! Joe Wonder and DJ Exquisite bring the heat with back-to-back sets — a perfect mix of rhythm\, energy\, and sound that keeps the floor moving all night long. \n📅 Saturday\, November 29\, 2025🕘 Starts at 9:00 PM💲 Cover: $20📍 Inside Xenote at Plaza Mariachi3955 Nolensville Pike\, Nashville\, TN 37211 \nDon’t miss this night of pure energy and sound — Guaracha vs Reggaeton\, only at Xenote. 🔥
URL:https://plazamariachi.com/event/guaracha-vs-reggaeton/
LOCATION:Xenote (Plaza Mariachi’s Private Event Space)\, 3955 Nolensville Pike\, Nashville\, TN\, 37211\, United States
CATEGORIES:Latin Music
ATTACH;FMTTYPE=image/jpeg:https://plazamariachi.com/wp-content/uploads/2025/11/img_1855.jpg
END:VEVENT
END:VCALENDAR