BEGIN:VCALENDAR
VERSION:2.0
PRODID:-//Plaza Mariachi - ECPv6.15.17.1//NONSGML v1.0//EN
CALSCALE:GREGORIAN
METHOD:PUBLISH
X-WR-CALNAME:Plaza Mariachi
X-ORIGINAL-URL:https://plazamariachi.com
X-WR-CALDESC:Events for Plaza Mariachi
REFRESH-INTERVAL;VALUE=DURATION:PT1H
X-Robots-Tag:noindex
X-PUBLISHED-TTL:PT1H
BEGIN:VTIMEZONE
TZID:America/Chicago
BEGIN:DAYLIGHT
TZOFFSETFROM:-0600
TZOFFSETTO:-0500
TZNAME:CDT
DTSTART:20230312T080000
END:DAYLIGHT
BEGIN:STANDARD
TZOFFSETFROM:-0500
TZOFFSETTO:-0600
TZNAME:CST
DTSTART:20231105T070000
END:STANDARD
BEGIN:DAYLIGHT
TZOFFSETFROM:-0600
TZOFFSETTO:-0500
TZNAME:CDT
DTSTART:20240310T080000
END:DAYLIGHT
BEGIN:STANDARD
TZOFFSETFROM:-0500
TZOFFSETTO:-0600
TZNAME:CST
DTSTART:20241103T070000
END:STANDARD
BEGIN:DAYLIGHT
TZOFFSETFROM:-0600
TZOFFSETTO:-0500
TZNAME:CDT
DTSTART:20250309T080000
END:DAYLIGHT
BEGIN:STANDARD
TZOFFSETFROM:-0500
TZOFFSETTO:-0600
TZNAME:CST
DTSTART:20251102T070000
END:STANDARD
END:VTIMEZONE
BEGIN:VEVENT
DTSTART;TZID=America/Chicago:20241208T180000
DTEND;TZID=America/Chicago:20241208T193000
DTSTAMP:20260420T173751
CREATED:20241126T230639Z
LAST-MODIFIED:20241126T230639Z
UID:28987-1733680800-1733686200@plazamariachi.com
SUMMARY:Grupo Inizzio
DESCRIPTION:Join us at Plaza Mariachi on Sunday\, December 8\, 2024\, from 6:00 pm to 7:30 pm for an unforgettable evening with Grupo Inizzio! This talented Regional Mexican band will bring their unique sound and high-energy performance to the stage\, delivering the heart and soul of Mexican music. Gather your friends and family\, and come experience Grupo Inizzio’s captivating rhythms and melodies that will have you dancing all night. Don’t miss this exciting performance!
URL:https://plazamariachi.com/event/grupo-inizzio-2/
LOCATION:Plaza Mariachi Music City\, 3955 Nolensville Pike\, Nashville\, TN\, 37211\, United States
CATEGORIES:Regional Mexican Music
ATTACH;FMTTYPE=image/jpeg:https://plazamariachi.com/wp-content/uploads/2024/10/Grupo-Inizzio.jpg
GEO:36.084811;-86.73018
X-APPLE-STRUCTURED-LOCATION;VALUE=URI;X-ADDRESS=Plaza Mariachi Music City 3955 Nolensville Pike Nashville TN 37211 United States;X-APPLE-RADIUS=500;X-TITLE=3955 Nolensville Pike:geo:-86.73018,36.084811
END:VEVENT
END:VCALENDAR