BEGIN:VCALENDAR
VERSION:2.0
PRODID:-//Plaza Mariachi - ECPv6.15.17.1//NONSGML v1.0//EN
CALSCALE:GREGORIAN
METHOD:PUBLISH
X-WR-CALNAME:Plaza Mariachi
X-ORIGINAL-URL:https://plazamariachi.com
X-WR-CALDESC:Events for Plaza Mariachi
REFRESH-INTERVAL;VALUE=DURATION:PT1H
X-Robots-Tag:noindex
X-PUBLISHED-TTL:PT1H
BEGIN:VTIMEZONE
TZID:America/Chicago
BEGIN:DAYLIGHT
TZOFFSETFROM:-0600
TZOFFSETTO:-0500
TZNAME:CDT
DTSTART:20240310T080000
END:DAYLIGHT
BEGIN:STANDARD
TZOFFSETFROM:-0500
TZOFFSETTO:-0600
TZNAME:CST
DTSTART:20241103T070000
END:STANDARD
BEGIN:DAYLIGHT
TZOFFSETFROM:-0600
TZOFFSETTO:-0500
TZNAME:CDT
DTSTART:20250309T080000
END:DAYLIGHT
BEGIN:STANDARD
TZOFFSETFROM:-0500
TZOFFSETTO:-0600
TZNAME:CST
DTSTART:20251102T070000
END:STANDARD
BEGIN:DAYLIGHT
TZOFFSETFROM:-0600
TZOFFSETTO:-0500
TZNAME:CDT
DTSTART:20260308T080000
END:DAYLIGHT
BEGIN:STANDARD
TZOFFSETFROM:-0500
TZOFFSETTO:-0600
TZNAME:CST
DTSTART:20261101T070000
END:STANDARD
END:VTIMEZONE
BEGIN:VEVENT
DTSTART;TZID=America/Chicago:20251228T173000
DTEND;TZID=America/Chicago:20251228T230000
DTSTAMP:20260421T171844
CREATED:20251224T192712Z
LAST-MODIFIED:20251224T194615Z
UID:32569-1766943000-1766962800@plazamariachi.com
SUMMARY:GRATIS Domingo: Impala Norte y Clave 256!!!
DESCRIPTION:Get ready for an unforgettable night of Regional Mexican music featuring Impala Norte and Clave 256\, performing live on stage at Plaza Mariachi! Experience the energy\, rhythm\, and passion of norteño music — completely FREE for everyone to enjoy. 💃🔥 \n🎤 Performing Live:Impala NorteClave 256 \n🎧 Plus\, Live DJ music with DJ Junior to keep the party going all night! \nBring your friends and family for a night full of great music\, dancing\, and celebration — only at Plaza Mariachi! \n🎟 FREE ENTRY📅 Sunday\, December 28\, 2025🕔 5:30 PM – 11:00 PM📍 Plaza Mariachi — 3955 Nolensville Pike\, Nashville\, TN 37211
URL:https://plazamariachi.com/event/gratis-domingo-impala-norte-y-clave-256/
LOCATION:Plaza Mariachi Music City\, 3955 Nolensville Pike\, Nashville\, TN\, 37211\, United States
CATEGORIES:Dance,Latin Music,Live Music,Regional Mexican Music
ATTACH;FMTTYPE=image/jpeg:https://plazamariachi.com/wp-content/uploads/2025/12/dom_28_dic_led_.jpg
GEO:36.084811;-86.73018
X-APPLE-STRUCTURED-LOCATION;VALUE=URI;X-ADDRESS=Plaza Mariachi Music City 3955 Nolensville Pike Nashville TN 37211 United States;X-APPLE-RADIUS=500;X-TITLE=3955 Nolensville Pike:geo:-86.73018,36.084811
END:VEVENT
END:VCALENDAR