BEGIN:VCALENDAR
VERSION:2.0
PRODID:-//Plaza Mariachi - ECPv6.15.17.1//NONSGML v1.0//EN
CALSCALE:GREGORIAN
METHOD:PUBLISH
X-WR-CALNAME:Plaza Mariachi
X-ORIGINAL-URL:https://plazamariachi.com
X-WR-CALDESC:Events for Plaza Mariachi
REFRESH-INTERVAL;VALUE=DURATION:PT1H
X-Robots-Tag:noindex
X-PUBLISHED-TTL:PT1H
BEGIN:VTIMEZONE
TZID:America/Chicago
BEGIN:DAYLIGHT
TZOFFSETFROM:-0600
TZOFFSETTO:-0500
TZNAME:CDT
DTSTART:20240310T080000
END:DAYLIGHT
BEGIN:STANDARD
TZOFFSETFROM:-0500
TZOFFSETTO:-0600
TZNAME:CST
DTSTART:20241103T070000
END:STANDARD
BEGIN:DAYLIGHT
TZOFFSETFROM:-0600
TZOFFSETTO:-0500
TZNAME:CDT
DTSTART:20250309T080000
END:DAYLIGHT
BEGIN:STANDARD
TZOFFSETFROM:-0500
TZOFFSETTO:-0600
TZNAME:CST
DTSTART:20251102T070000
END:STANDARD
BEGIN:DAYLIGHT
TZOFFSETFROM:-0600
TZOFFSETTO:-0500
TZNAME:CDT
DTSTART:20260308T080000
END:DAYLIGHT
BEGIN:STANDARD
TZOFFSETFROM:-0500
TZOFFSETTO:-0600
TZNAME:CST
DTSTART:20261101T070000
END:STANDARD
END:VTIMEZONE
BEGIN:VEVENT
DTSTART;TZID=America/Chicago:20251220T203000
DTEND;TZID=America/Chicago:20251220T220000
DTSTAMP:20260422T133019
CREATED:20251212T005526Z
LAST-MODIFIED:20251219T023823Z
UID:32409-1766262600-1766268000@plazamariachi.com
SUMMARY:Gaitas Venezolanas: Sentir Gaitero
DESCRIPTION:Join us on Friday\, December 20 for a festive Christmas celebration featuring Sentir Gaitero — ¡Somos La Gaita Zuliana en Nashville\, TN! Experience the authentic sound of gaita zuliana\, the joyful holiday music that fills streets\, plazas\, and family gatherings throughout Venezuela. \nSentir Gaitero brings the unmistakable rhythms\, charrasca\, furro\, and four-part harmonies that define the season for millions of Venezuelans. Their performance captures the warmth\, tradition\, and community spirit of a true Venezuelan Christmas — full of energy\, emotion\, and cultural pride. \n📅 Friday\, December 20\, 2025⏰ Starts at 4 PM📍 Plaza Mariachi\, 3955 Nolensville Pike\, Nashville\, TN 37211🎟 FREE Admission before 9 PM — All Ages Welcome \nCelebrate the holidays with the music and heart of Venezuela — only at Plaza Mariachi.
URL:https://plazamariachi.com/event/gaitas-venezolanas-sentir-gaitero/
LOCATION:Plaza Mariachi Music City\, 3955 Nolensville Pike\, Nashville\, TN\, 37211\, United States
CATEGORIES:Cultural Event,Live Music
ATTACH;FMTTYPE=image/jpeg:https://plazamariachi.com/wp-content/uploads/2025/12/gaitas_20_dic_fb.jpeg
GEO:36.084811;-86.73018
X-APPLE-STRUCTURED-LOCATION;VALUE=URI;X-ADDRESS=Plaza Mariachi Music City 3955 Nolensville Pike Nashville TN 37211 United States;X-APPLE-RADIUS=500;X-TITLE=3955 Nolensville Pike:geo:-86.73018,36.084811
END:VEVENT
END:VCALENDAR