BEGIN:VCALENDAR
VERSION:2.0
PRODID:-//Plaza Mariachi - ECPv6.15.17.1//NONSGML v1.0//EN
CALSCALE:GREGORIAN
METHOD:PUBLISH
X-WR-CALNAME:Plaza Mariachi
X-ORIGINAL-URL:https://plazamariachi.com
X-WR-CALDESC:Events for Plaza Mariachi
REFRESH-INTERVAL;VALUE=DURATION:PT1H
X-Robots-Tag:noindex
X-PUBLISHED-TTL:PT1H
BEGIN:VTIMEZONE
TZID:America/Chicago
BEGIN:DAYLIGHT
TZOFFSETFROM:-0600
TZOFFSETTO:-0500
TZNAME:CDT
DTSTART:20240310T080000
END:DAYLIGHT
BEGIN:STANDARD
TZOFFSETFROM:-0500
TZOFFSETTO:-0600
TZNAME:CST
DTSTART:20241103T070000
END:STANDARD
BEGIN:DAYLIGHT
TZOFFSETFROM:-0600
TZOFFSETTO:-0500
TZNAME:CDT
DTSTART:20250309T080000
END:DAYLIGHT
BEGIN:STANDARD
TZOFFSETFROM:-0500
TZOFFSETTO:-0600
TZNAME:CST
DTSTART:20251102T070000
END:STANDARD
BEGIN:DAYLIGHT
TZOFFSETFROM:-0600
TZOFFSETTO:-0500
TZNAME:CDT
DTSTART:20260308T080000
END:DAYLIGHT
BEGIN:STANDARD
TZOFFSETFROM:-0500
TZOFFSETTO:-0600
TZNAME:CST
DTSTART:20261101T070000
END:STANDARD
END:VTIMEZONE
BEGIN:VEVENT
DTSTART;TZID=America/Chicago:20251018T110000
DTEND;TZID=America/Chicago:20251018T160000
DTSTAMP:20260423T231512
CREATED:20250926T014150Z
LAST-MODIFIED:20251014T020604Z
UID:31393-1760785200-1760803200@plazamariachi.com
SUMMARY:FREE Villains Kids Party with Minions
DESCRIPTION:🎉 FREE Kids Party at Plaza Mariachi! 🎉 \nAt 11AM we will start by playing “Despicable Me” movie. \nWe have a fun and special event planned for you. Starting at 1PM we will have Bilingual story time followed by arts and crafts. Meet and Greets\, pictures with Characters\, and performances will soon follow. You’ll get to see live performances with characters\, as well as more meet and greet with characters. There will be games\, contests\, prizes\, dance party and more. \n🎟 FREE EVENT! \nPlus\, enjoy face painting and more surprises throughout the event! \n📢 Don’t miss out on this FREE family-friendly event—fun\, laughter\, and creativity await! \nMark your calendars\, invite your friends\, and join us at Plaza Mariachi! \n📅 Saturday\, October 18\, 2025\n⏰ 11AM – 4PM\n📍 Plaza Mariachi\, 3955 Nolensville Pike\, Nashville\, TN 37211
URL:https://plazamariachi.com/event/free-villains-kids-party-with-minions/
LOCATION:Plaza Mariachi Music City\, 3955 Nolensville Pike\, Nashville\, TN\, 37211\, United States
CATEGORIES:Children's Entertainment and Events
ATTACH;FMTTYPE=image/jpeg:https://plazamariachi.com/wp-content/uploads/2025/09/kids_18_oct_fb.jpg
GEO:36.084811;-86.73018
X-APPLE-STRUCTURED-LOCATION;VALUE=URI;X-ADDRESS=Plaza Mariachi Music City 3955 Nolensville Pike Nashville TN 37211 United States;X-APPLE-RADIUS=500;X-TITLE=3955 Nolensville Pike:geo:-86.73018,36.084811
END:VEVENT
END:VCALENDAR