BEGIN:VCALENDAR
VERSION:2.0
PRODID:-//Plaza Mariachi - ECPv6.15.17.1//NONSGML v1.0//EN
CALSCALE:GREGORIAN
METHOD:PUBLISH
X-WR-CALNAME:Plaza Mariachi
X-ORIGINAL-URL:https://plazamariachi.com
X-WR-CALDESC:Events for Plaza Mariachi
REFRESH-INTERVAL;VALUE=DURATION:PT1H
X-Robots-Tag:noindex
X-PUBLISHED-TTL:PT1H
BEGIN:VTIMEZONE
TZID:America/Chicago
BEGIN:DAYLIGHT
TZOFFSETFROM:-0600
TZOFFSETTO:-0500
TZNAME:CDT
DTSTART:20250309T080000
END:DAYLIGHT
BEGIN:STANDARD
TZOFFSETFROM:-0500
TZOFFSETTO:-0600
TZNAME:CST
DTSTART:20251102T070000
END:STANDARD
BEGIN:DAYLIGHT
TZOFFSETFROM:-0600
TZOFFSETTO:-0500
TZNAME:CDT
DTSTART:20260308T080000
END:DAYLIGHT
BEGIN:STANDARD
TZOFFSETFROM:-0500
TZOFFSETTO:-0600
TZNAME:CST
DTSTART:20261101T070000
END:STANDARD
BEGIN:DAYLIGHT
TZOFFSETFROM:-0600
TZOFFSETTO:-0500
TZNAME:CDT
DTSTART:20270314T080000
END:DAYLIGHT
BEGIN:STANDARD
TZOFFSETFROM:-0500
TZOFFSETTO:-0600
TZNAME:CST
DTSTART:20271107T070000
END:STANDARD
END:VTIMEZONE
BEGIN:VEVENT
DTSTART;TZID=America/Chicago:20260102T190000
DTEND;TZID=America/Chicago:20260103T000000
DTSTAMP:20260421T135921
CREATED:20251227T212141Z
LAST-MODIFIED:20251227T221017Z
UID:32590-1767380400-1767398400@plazamariachi.com
SUMMARY:Free Salsa Lessons & Open Dance Floor - Salsa Night
DESCRIPTION:Get ready to move your hips and feel the rhythm at Salsa Night! 🕺 FREE Salsa Lessons start at 7:15 PM with David Alexis — the perfect way to learn new moves before the open dance floor begins. \nAfter the lesson\, dance the night away with music by DJ Exquisite\, spinning the best Salsa\, Bachata\, and Latin hits until midnight! \n🍹 Drink Specials: Margaritas $8 | Beers $6 \nBring your partner\, your friends\, or come solo — everyone’s welcome at Nashville’s hottest Salsa Night! \n📅 Friday\, January 2\, 2026🕖 7 PM – 12 AM📍 Plaza Mariachi\, 3955 Nolensville Pike\, Nashville\, TN 37211
URL:https://plazamariachi.com/event/free-salsa-lessons-open-dance-floor-salsa-night/
LOCATION:Plaza Mariachi Music City\, 3955 Nolensville Pike\, Nashville\, TN\, 37211\, United States
CATEGORIES:Dance
ATTACH;FMTTYPE=image/jpeg:https://plazamariachi.com/wp-content/uploads/2025/12/salsa_jan_2_fb.jpg
GEO:36.084811;-86.73018
X-APPLE-STRUCTURED-LOCATION;VALUE=URI;X-ADDRESS=Plaza Mariachi Music City 3955 Nolensville Pike Nashville TN 37211 United States;X-APPLE-RADIUS=500;X-TITLE=3955 Nolensville Pike:geo:-86.73018,36.084811
END:VEVENT
END:VCALENDAR