BEGIN:VCALENDAR
VERSION:2.0
PRODID:-//Plaza Mariachi - ECPv6.15.17.1//NONSGML v1.0//EN
CALSCALE:GREGORIAN
METHOD:PUBLISH
X-WR-CALNAME:Plaza Mariachi
X-ORIGINAL-URL:https://plazamariachi.com
X-WR-CALDESC:Events for Plaza Mariachi
REFRESH-INTERVAL;VALUE=DURATION:PT1H
X-Robots-Tag:noindex
X-PUBLISHED-TTL:PT1H
BEGIN:VTIMEZONE
TZID:America/Chicago
BEGIN:DAYLIGHT
TZOFFSETFROM:-0600
TZOFFSETTO:-0500
TZNAME:CDT
DTSTART:20250309T080000
END:DAYLIGHT
BEGIN:STANDARD
TZOFFSETFROM:-0500
TZOFFSETTO:-0600
TZNAME:CST
DTSTART:20251102T070000
END:STANDARD
BEGIN:DAYLIGHT
TZOFFSETFROM:-0600
TZOFFSETTO:-0500
TZNAME:CDT
DTSTART:20260308T080000
END:DAYLIGHT
BEGIN:STANDARD
TZOFFSETFROM:-0500
TZOFFSETTO:-0600
TZNAME:CST
DTSTART:20261101T070000
END:STANDARD
BEGIN:DAYLIGHT
TZOFFSETFROM:-0600
TZOFFSETTO:-0500
TZNAME:CDT
DTSTART:20270314T080000
END:DAYLIGHT
BEGIN:STANDARD
TZOFFSETFROM:-0500
TZOFFSETTO:-0600
TZNAME:CST
DTSTART:20271107T070000
END:STANDARD
END:VTIMEZONE
BEGIN:VEVENT
DTSTART;TZID=America/Chicago:20260505T180000
DTEND;TZID=America/Chicago:20260505T230000
DTSTAMP:20260423T140529
CREATED:20260423T155556Z
LAST-MODIFIED:20260423T155603Z
UID:34031-1778004000-1778022000@plazamariachi.com
SUMMARY:FREE Professional Boxing with Live Mariachi Band and Folklore
DESCRIPTION:🥊🎶 Professional Boxing at Plaza Mariachi 🎶🥊📅 Tuesday\, May 5th \nGet ready for a one-of-a-kind night of professional boxing and live music at Plaza Mariachi\, presented by Country Box. This event brings high-energy fight action and live performances together for an unforgettable experience. \nWatch intense matchups in the ring while live music keeps the energy going all night long. Whether you’re a fight fan or just looking for something exciting to do in Nashville\, this night delivers nonstop action. \n💲 At the Door Pricing: FREE \n🎸 Live Music Performance:• announcement coming soon \n⏰ Doors Open: 6:00 PM📍 Plaza Mariachi — 3955 Nolensville Pike\, Nashville\, TN 37211 \nDon’t miss an adrenaline-packed night of boxing and live music — only at Plaza Mariachi. 🥊🔥
URL:https://plazamariachi.com/event/free-professional-boxing-with-live-mariachi-band-and-folklore/
LOCATION:Plaza Mariachi Music City\, 3955 Nolensville Pike\, Nashville\, TN\, 37211\, United States
CATEGORIES:Live Music,Sports
ATTACH;FMTTYPE=image/jpeg:https://plazamariachi.com/wp-content/uploads/2026/04/6be121d5-2b84-49a2-ac24-d8c894d8b0a0.jpg
GEO:36.084811;-86.73018
X-APPLE-STRUCTURED-LOCATION;VALUE=URI;X-ADDRESS=Plaza Mariachi Music City 3955 Nolensville Pike Nashville TN 37211 United States;X-APPLE-RADIUS=500;X-TITLE=3955 Nolensville Pike:geo:-86.73018,36.084811
END:VEVENT
END:VCALENDAR