BEGIN:VCALENDAR
VERSION:2.0
PRODID:-//Plaza Mariachi - ECPv6.15.17.1//NONSGML v1.0//EN
CALSCALE:GREGORIAN
METHOD:PUBLISH
X-WR-CALNAME:Plaza Mariachi
X-ORIGINAL-URL:https://plazamariachi.com
X-WR-CALDESC:Events for Plaza Mariachi
REFRESH-INTERVAL;VALUE=DURATION:PT1H
X-Robots-Tag:noindex
X-PUBLISHED-TTL:PT1H
BEGIN:VTIMEZONE
TZID:America/Chicago
BEGIN:DAYLIGHT
TZOFFSETFROM:-0600
TZOFFSETTO:-0500
TZNAME:CDT
DTSTART:20240310T080000
END:DAYLIGHT
BEGIN:STANDARD
TZOFFSETFROM:-0500
TZOFFSETTO:-0600
TZNAME:CST
DTSTART:20241103T070000
END:STANDARD
BEGIN:DAYLIGHT
TZOFFSETFROM:-0600
TZOFFSETTO:-0500
TZNAME:CDT
DTSTART:20250309T080000
END:DAYLIGHT
BEGIN:STANDARD
TZOFFSETFROM:-0500
TZOFFSETTO:-0600
TZNAME:CST
DTSTART:20251102T070000
END:STANDARD
BEGIN:DAYLIGHT
TZOFFSETFROM:-0600
TZOFFSETTO:-0500
TZNAME:CDT
DTSTART:20260308T080000
END:DAYLIGHT
BEGIN:STANDARD
TZOFFSETFROM:-0500
TZOFFSETTO:-0600
TZNAME:CST
DTSTART:20261101T070000
END:STANDARD
END:VTIMEZONE
BEGIN:VEVENT
DTSTART;TZID=America/Chicago:20251221T150000
DTEND;TZID=America/Chicago:20251221T170000
DTSTAMP:20260422T054757
CREATED:20251203T211431Z
LAST-MODIFIED:20251203T211431Z
UID:10008545-1766329200-1766336400@plazamariachi.com
SUMMARY:FREE Pictures with Santa
DESCRIPTION:Bring the whole family and capture the magic of the holidays with FREE pictures with Santa Claus and The Grinch! 📸✨ Enjoy festive photo ops\, holiday decorations\, and plenty of Christmas cheer — perfect for kids and families of all ages. \n🎅 Santa Claus Schedule\n📅 Saturday\, December 6\n2 PM–4 PM\n6 PM–8 PM \n📅 Saturday\, December 13\n2 PM–4 PM\n6 PM–8 PM \n📅 Saturday\, December 20\n2 PM–4 PM\n6 PM–8 PM \n📅 Sunday\, December 21\n3 PM–5 PM \n🎄The Grinch Schedule\n📅 Saturday\, December 13\n6 PM \n📅 Saturday\, December 20\n7 PM \n📍 Plaza Mariachi\, 3955 Nolensville Pike\, Nashville\, TN 37211 \nCreate unforgettable holiday memories with Santa 🎅 and The Grinch 🎄 — only at Plaza Mariachi Music City!
URL:https://plazamariachi.com/event/free-pictures-with-santa-2/2025-12-21/
LOCATION:Plaza Mariachi Music City\, 3955 Nolensville Pike\, Nashville\, TN\, 37211\, United States
CATEGORIES:Children's Entertainment and Events,Family Fun Event
ATTACH;FMTTYPE=image/jpeg:https://plazamariachi.com/wp-content/uploads/2025/12/Pictures-with-Santa.jpg
GEO:36.084811;-86.73018
X-APPLE-STRUCTURED-LOCATION;VALUE=URI;X-ADDRESS=Plaza Mariachi Music City 3955 Nolensville Pike Nashville TN 37211 United States;X-APPLE-RADIUS=500;X-TITLE=3955 Nolensville Pike:geo:-86.73018,36.084811
END:VEVENT
END:VCALENDAR