BEGIN:VCALENDAR
VERSION:2.0
PRODID:-//Plaza Mariachi - ECPv6.15.17.1//NONSGML v1.0//EN
CALSCALE:GREGORIAN
METHOD:PUBLISH
X-WR-CALNAME:Plaza Mariachi
X-ORIGINAL-URL:https://plazamariachi.com
X-WR-CALDESC:Events for Plaza Mariachi
REFRESH-INTERVAL;VALUE=DURATION:PT1H
X-Robots-Tag:noindex
X-PUBLISHED-TTL:PT1H
BEGIN:VTIMEZONE
TZID:America/Chicago
BEGIN:DAYLIGHT
TZOFFSETFROM:-0600
TZOFFSETTO:-0500
TZNAME:CDT
DTSTART:20240310T080000
END:DAYLIGHT
BEGIN:STANDARD
TZOFFSETFROM:-0500
TZOFFSETTO:-0600
TZNAME:CST
DTSTART:20241103T070000
END:STANDARD
BEGIN:DAYLIGHT
TZOFFSETFROM:-0600
TZOFFSETTO:-0500
TZNAME:CDT
DTSTART:20250309T080000
END:DAYLIGHT
BEGIN:STANDARD
TZOFFSETFROM:-0500
TZOFFSETTO:-0600
TZNAME:CST
DTSTART:20251102T070000
END:STANDARD
BEGIN:DAYLIGHT
TZOFFSETFROM:-0600
TZOFFSETTO:-0500
TZNAME:CDT
DTSTART:20260308T080000
END:DAYLIGHT
BEGIN:STANDARD
TZOFFSETFROM:-0500
TZOFFSETTO:-0600
TZNAME:CST
DTSTART:20261101T070000
END:STANDARD
END:VTIMEZONE
BEGIN:VEVENT
DTSTART;TZID=America/Chicago:20250712T130000
DTEND;TZID=America/Chicago:20250712T160000
DTSTAMP:20260424T105224
CREATED:20250703T184358Z
LAST-MODIFIED:20250703T184358Z
UID:30314-1752325200-1752336000@plazamariachi.com
SUMMARY:FREE Kids Party: Encanto and Frida
DESCRIPTION:🎉 FREE Kids Party at Plaza Mariachi! 🎉\n📅 Saturday\, July 12\, 2025\n⏰ 1PM – 4PM\n📍 Plaza Mariachi\, 3955 Nolensville Pike\, Nashville\, TN 37211\n🎟 FREE EVENT! \nAt 11AM we will be playing “Encanto” so come early if you want to have a family movie time. \nGet ready for a magical day of fun and imagination at our Encanto & Frida Kids Party! Join us for a special event featuring interactive activities\, music\, and creative fun for the whole family! \nPlus\, enjoy face painting\, balloon figures\, and more surprises throughout the event! \n📢 Don’t miss out on this FREE family-friendly event—fun\, laughter\, and creativity await! \n📍 Mark your calendars\, invite your friends\, and join us at Plaza Mariachi!
URL:https://plazamariachi.com/event/free-kids-party-encanto-and-frida/
LOCATION:Plaza Mariachi Music City\, 3955 Nolensville Pike\, Nashville\, TN\, 37211\, United States
CATEGORIES:Children's Entertainment and Events
ATTACH;FMTTYPE=image/jpeg:https://plazamariachi.com/wp-content/uploads/2025/07/KIDS-JUL-12-FB.jpg
GEO:36.084811;-86.73018
X-APPLE-STRUCTURED-LOCATION;VALUE=URI;X-ADDRESS=Plaza Mariachi Music City 3955 Nolensville Pike Nashville TN 37211 United States;X-APPLE-RADIUS=500;X-TITLE=3955 Nolensville Pike:geo:-86.73018,36.084811
END:VEVENT
END:VCALENDAR