BEGIN:VCALENDAR
VERSION:2.0
PRODID:-//Plaza Mariachi - ECPv6.15.17.1//NONSGML v1.0//EN
CALSCALE:GREGORIAN
METHOD:PUBLISH
X-WR-CALNAME:Plaza Mariachi
X-ORIGINAL-URL:https://plazamariachi.com
X-WR-CALDESC:Events for Plaza Mariachi
REFRESH-INTERVAL;VALUE=DURATION:PT1H
X-Robots-Tag:noindex
X-PUBLISHED-TTL:PT1H
BEGIN:VTIMEZONE
TZID:America/Chicago
BEGIN:DAYLIGHT
TZOFFSETFROM:-0600
TZOFFSETTO:-0500
TZNAME:CDT
DTSTART:20240310T080000
END:DAYLIGHT
BEGIN:STANDARD
TZOFFSETFROM:-0500
TZOFFSETTO:-0600
TZNAME:CST
DTSTART:20241103T070000
END:STANDARD
BEGIN:DAYLIGHT
TZOFFSETFROM:-0600
TZOFFSETTO:-0500
TZNAME:CDT
DTSTART:20250309T080000
END:DAYLIGHT
BEGIN:STANDARD
TZOFFSETFROM:-0500
TZOFFSETTO:-0600
TZNAME:CST
DTSTART:20251102T070000
END:STANDARD
BEGIN:DAYLIGHT
TZOFFSETFROM:-0600
TZOFFSETTO:-0500
TZNAME:CDT
DTSTART:20260308T080000
END:DAYLIGHT
BEGIN:STANDARD
TZOFFSETFROM:-0500
TZOFFSETTO:-0600
TZNAME:CST
DTSTART:20261101T070000
END:STANDARD
END:VTIMEZONE
BEGIN:VEVENT
DTSTART;TZID=America/Chicago:20251115T110000
DTEND;TZID=America/Chicago:20251115T160000
DTSTAMP:20260423T015441
CREATED:20251019T015549Z
LAST-MODIFIED:20251103T195401Z
UID:31727-1763204400-1763222400@plazamariachi.com
SUMMARY:FREE Kids Party with Princess Jasmine
DESCRIPTION:Get ready for a full day of fun\, imagination\, and adventure at Plaza Mariachi’s FREE Middle East Kids Party! \n🎟️ This is a Free event open to all families! \nWe’ll begin the morning at 11:00 AM with a showing of the animated movie “Aladdin” on the big screen. Then at 1:00 PM\, the activities begin — bilingual story time\, arts & crafts\, character meet-and-greets including Princess Jasmine and Black Panther\, live performances\, and lots of photo moments to capture the memories! \nThe afternoon continues with games\, contests\, prizes\, and a kids’ dance party — keeping the fun going until 4:00 PM. \nPlus\, enjoy face painting and more surprises throughout the event! \n📢 Don’t miss out on this FREE family-friendly event — fun\, laughter\, and creativity await! \n📅 Saturday\, November 15\, 2025🕓 11:00 AM – 4:00 PM📍 Plaza Mariachi\, 3955 Nolensville Pike\, Nashville\, TN 37211
URL:https://plazamariachi.com/event/free-kids-party-2025-10-15/
LOCATION:Plaza Mariachi Music City\, 3955 Nolensville Pike\, Nashville\, TN\, 37211\, United States
CATEGORIES:Children's Entertainment and Events
ATTACH;FMTTYPE=image/jpeg:https://plazamariachi.com/wp-content/uploads/2025/10/kids_15_nov_sq.jpg
GEO:36.084811;-86.73018
X-APPLE-STRUCTURED-LOCATION;VALUE=URI;X-ADDRESS=Plaza Mariachi Music City 3955 Nolensville Pike Nashville TN 37211 United States;X-APPLE-RADIUS=500;X-TITLE=3955 Nolensville Pike:geo:-86.73018,36.084811
END:VEVENT
END:VCALENDAR