BEGIN:VCALENDAR
VERSION:2.0
PRODID:-//Plaza Mariachi - ECPv6.15.17.1//NONSGML v1.0//EN
CALSCALE:GREGORIAN
METHOD:PUBLISH
X-WR-CALNAME:Plaza Mariachi
X-ORIGINAL-URL:https://plazamariachi.com
X-WR-CALDESC:Events for Plaza Mariachi
REFRESH-INTERVAL;VALUE=DURATION:PT1H
X-Robots-Tag:noindex
X-PUBLISHED-TTL:PT1H
BEGIN:VTIMEZONE
TZID:America/Chicago
BEGIN:DAYLIGHT
TZOFFSETFROM:-0600
TZOFFSETTO:-0500
TZNAME:CDT
DTSTART:20250309T080000
END:DAYLIGHT
BEGIN:STANDARD
TZOFFSETFROM:-0500
TZOFFSETTO:-0600
TZNAME:CST
DTSTART:20251102T070000
END:STANDARD
BEGIN:DAYLIGHT
TZOFFSETFROM:-0600
TZOFFSETTO:-0500
TZNAME:CDT
DTSTART:20260308T080000
END:DAYLIGHT
BEGIN:STANDARD
TZOFFSETFROM:-0500
TZOFFSETTO:-0600
TZNAME:CST
DTSTART:20261101T070000
END:STANDARD
BEGIN:DAYLIGHT
TZOFFSETFROM:-0600
TZOFFSETTO:-0500
TZNAME:CDT
DTSTART:20270314T080000
END:DAYLIGHT
BEGIN:STANDARD
TZOFFSETFROM:-0500
TZOFFSETTO:-0600
TZNAME:CST
DTSTART:20271107T070000
END:STANDARD
END:VTIMEZONE
BEGIN:VEVENT
DTSTART;TZID=America/Chicago:20260110T150000
DTEND;TZID=America/Chicago:20260110T193000
DTSTAMP:20260422T042742
CREATED:20260107T014107Z
LAST-MODIFIED:20260107T014107Z
UID:32711-1768057200-1768073400@plazamariachi.com
SUMMARY:FREE Kids Party!
DESCRIPTION:🎉 KIDS PARTY AT PLAZA MARIACHI — THIS SATURDAY 🎉🕒 NEW START TIME: 3:00 PM \nBring the kids out for an afternoon filled with stories\, games\, music\, and magical character moments at Plaza Mariachi’s weekly Kids Party — now starting at 3 PM! \nThe fun kicks off with story time\, arts & crafts\, and books\, followed by raffles\, games\, and contests throughout the afternoon. Kids can dance with their favorite characters during the Kids Dance Party\, play Lotería Loka\, sing along with princesses like Cinderella\, Rapunzel\, and Belle\, and enjoy a live Circus Show to end the night. \n✨ Event Schedule Highlights:\n📖 3:00 PM – Story Time\, Arts & Crafts\, Books🎁 4:00 PM – Raffles\, Games & Contests💃 5:00 PM – Characters Kids Dance Party🎉 5:30 PM – Kids Lotería Loka🎤 6:30 PM – Princess Sing-Along🎪 7:00 PM – Circus Show \n🎟️ FREE family-friendly event📅 Saturday\, January 10📍 Plaza Mariachi — 3955 Nolensville Pike\, Nashville\, TN 37211 \nJoin us for an afternoon of creativity\, imagination\, and smiles — the perfect weekend outing for the whole family.
URL:https://plazamariachi.com/event/free-kids-party-1-10-26/
LOCATION:Plaza Mariachi Music City\, 3955 Nolensville Pike\, Nashville\, TN\, 37211\, United States
CATEGORIES:Children's Entertainment and Events
ATTACH;FMTTYPE=image/jpeg:https://plazamariachi.com/wp-content/uploads/2026/01/kids_FB.jpg
GEO:36.084811;-86.73018
X-APPLE-STRUCTURED-LOCATION;VALUE=URI;X-ADDRESS=Plaza Mariachi Music City 3955 Nolensville Pike Nashville TN 37211 United States;X-APPLE-RADIUS=500;X-TITLE=3955 Nolensville Pike:geo:-86.73018,36.084811
END:VEVENT
END:VCALENDAR