BEGIN:VCALENDAR
VERSION:2.0
PRODID:-//Plaza Mariachi - ECPv6.15.17.1//NONSGML v1.0//EN
CALSCALE:GREGORIAN
METHOD:PUBLISH
X-WR-CALNAME:Plaza Mariachi
X-ORIGINAL-URL:https://plazamariachi.com
X-WR-CALDESC:Events for Plaza Mariachi
REFRESH-INTERVAL;VALUE=DURATION:PT1H
X-Robots-Tag:noindex
X-PUBLISHED-TTL:PT1H
BEGIN:VTIMEZONE
TZID:America/Chicago
BEGIN:DAYLIGHT
TZOFFSETFROM:-0600
TZOFFSETTO:-0500
TZNAME:CDT
DTSTART:20250309T080000
END:DAYLIGHT
BEGIN:STANDARD
TZOFFSETFROM:-0500
TZOFFSETTO:-0600
TZNAME:CST
DTSTART:20251102T070000
END:STANDARD
BEGIN:DAYLIGHT
TZOFFSETFROM:-0600
TZOFFSETTO:-0500
TZNAME:CDT
DTSTART:20260308T080000
END:DAYLIGHT
BEGIN:STANDARD
TZOFFSETFROM:-0500
TZOFFSETTO:-0600
TZNAME:CST
DTSTART:20261101T070000
END:STANDARD
BEGIN:DAYLIGHT
TZOFFSETFROM:-0600
TZOFFSETTO:-0500
TZNAME:CDT
DTSTART:20270314T080000
END:DAYLIGHT
BEGIN:STANDARD
TZOFFSETFROM:-0500
TZOFFSETTO:-0600
TZNAME:CST
DTSTART:20271107T070000
END:STANDARD
END:VTIMEZONE
BEGIN:VEVENT
DTSTART;TZID=America/Chicago:20260221T133000
DTEND;TZID=America/Chicago:20260221T193000
DTSTAMP:20260421T190240
CREATED:20260219T195732Z
LAST-MODIFIED:20260219T195732Z
UID:33246-1771680600-1771702200@plazamariachi.com
SUMMARY:FREE Kids Carnival Party!
DESCRIPTION:🎉 KIDS PARTY AT PLAZA MARIACHI — THIS SATURDAY 🎉🕒 STARTS AT 1:30 PM \nBring the kids out for a fun-filled afternoon of stories\, games\, dancing\, and character experiences at Plaza Mariachi’s weekly Kids Party — a free event designed for families to enjoy together. \nThe afternoon begins with Story Time\, Arts & Crafts\, and Books\, followed by raffles\, games\, and contests. Kids can join in on Lotería Loka\, dance with characters during the Kids Dance Party\, meet princesses and characters for free pictures\, and finish the night with a special multicultural experience. \n✨ Event Schedule Highlights: \n💃 1:30 PM – Folklore📖 3:00 PM – Story Time\, Arts & Crafts & Books🎁 4:00 PM – Raffles\, Games & Contests🎉 5:00 PM – Kids Lotería Loka💃 6:00 PM – Characters Kids Loco Dance Party👑 6:30 PM – Princess & Characters Meet & Greet + Free Pictures🌍 7:00 PM – Carnival Dinner Show Begins \n🎟️ FREE family-friendly event📅 Saturday\, February 21st📍 Plaza Mariachi — 3955 Nolensville Pike\, Nashville\, TN 37211 \nJoin us for an afternoon of creativity\, music\, and smiles — a perfect weekend outing for the whole family at Plaza Mariachi.
URL:https://plazamariachi.com/event/free-kids-carnival-party/
LOCATION:Plaza Mariachi Music City\, 3955 Nolensville Pike\, Nashville\, TN\, 37211\, United States
CATEGORIES:Children's Entertainment and Events
ATTACH;FMTTYPE=image/jpeg:https://plazamariachi.com/wp-content/uploads/2026/02/KIDS-21-FEB-fb.jpg
GEO:36.084811;-86.73018
X-APPLE-STRUCTURED-LOCATION;VALUE=URI;X-ADDRESS=Plaza Mariachi Music City 3955 Nolensville Pike Nashville TN 37211 United States;X-APPLE-RADIUS=500;X-TITLE=3955 Nolensville Pike:geo:-86.73018,36.084811
END:VEVENT
END:VCALENDAR