BEGIN:VCALENDAR
VERSION:2.0
PRODID:-//Plaza Mariachi - ECPv6.15.17.1//NONSGML v1.0//EN
CALSCALE:GREGORIAN
METHOD:PUBLISH
X-WR-CALNAME:Plaza Mariachi
X-ORIGINAL-URL:https://plazamariachi.com
X-WR-CALDESC:Events for Plaza Mariachi
REFRESH-INTERVAL;VALUE=DURATION:PT1H
X-Robots-Tag:noindex
X-PUBLISHED-TTL:PT1H
BEGIN:VTIMEZONE
TZID:America/Chicago
BEGIN:DAYLIGHT
TZOFFSETFROM:-0600
TZOFFSETTO:-0500
TZNAME:CDT
DTSTART:20240310T080000
END:DAYLIGHT
BEGIN:STANDARD
TZOFFSETFROM:-0500
TZOFFSETTO:-0600
TZNAME:CST
DTSTART:20241103T070000
END:STANDARD
BEGIN:DAYLIGHT
TZOFFSETFROM:-0600
TZOFFSETTO:-0500
TZNAME:CDT
DTSTART:20250309T080000
END:DAYLIGHT
BEGIN:STANDARD
TZOFFSETFROM:-0500
TZOFFSETTO:-0600
TZNAME:CST
DTSTART:20251102T070000
END:STANDARD
BEGIN:DAYLIGHT
TZOFFSETFROM:-0600
TZOFFSETTO:-0500
TZNAME:CDT
DTSTART:20260308T080000
END:DAYLIGHT
BEGIN:STANDARD
TZOFFSETFROM:-0500
TZOFFSETTO:-0600
TZNAME:CST
DTSTART:20261101T070000
END:STANDARD
END:VTIMEZONE
BEGIN:VEVENT
DTSTART;TZID=America/Chicago:20251004T170000
DTEND;TZID=America/Chicago:20251004T210000
DTSTAMP:20260421T110517
CREATED:20250926T190715Z
LAST-MODIFIED:20251002T171241Z
UID:31416-1759597200-1759611600@plazamariachi.com
SUMMARY:FREE Dinner Show!!!
DESCRIPTION:Where can you eat dinner and see a FREE SHOW?  \nThis Saturday at Plaza Mariachi we have just that for you. Get ready for an evening of Live Performances. \nAll of this entertainment is completely FREE. You just need to bring yourself\, but we recommend to bring your family and friends to enjoy this one of a kind night with. \nThis weeks lineup includes \n\nJoshua Guaz’s Violin Show\nThe Greatest Showman Circus Show\nLive Performance by Los De Sexto\n\nIf you would like to book a reservation please call Plaza Mariachi at (615) 373-9292 \n Date: Saturday\, October 4\, 2025\n Time: 5PM – 9PM\n Location: Plaza Mariachi\, 3955 Nolensville Pike\, Nashville\, TN 37211 \nWe will see you this Saturday!!
URL:https://plazamariachi.com/event/free-dinner-show/
LOCATION:Plaza Mariachi Music City\, 3955 Nolensville Pike\, Nashville\, TN\, 37211\, United States
CATEGORIES:Circus,Cultural Event,Dance,Family Fun Event,Latin Music,Live Music
ATTACH;FMTTYPE=image/jpeg:https://plazamariachi.com/wp-content/uploads/2025/08/1.jpg
GEO:36.084811;-86.73018
X-APPLE-STRUCTURED-LOCATION;VALUE=URI;X-ADDRESS=Plaza Mariachi Music City 3955 Nolensville Pike Nashville TN 37211 United States;X-APPLE-RADIUS=500;X-TITLE=3955 Nolensville Pike:geo:-86.73018,36.084811
END:VEVENT
END:VCALENDAR