BEGIN:VCALENDAR
VERSION:2.0
PRODID:-//Plaza Mariachi - ECPv6.15.17.1//NONSGML v1.0//EN
CALSCALE:GREGORIAN
METHOD:PUBLISH
X-WR-CALNAME:Plaza Mariachi
X-ORIGINAL-URL:https://plazamariachi.com
X-WR-CALDESC:Events for Plaza Mariachi
REFRESH-INTERVAL;VALUE=DURATION:PT1H
X-Robots-Tag:noindex
X-PUBLISHED-TTL:PT1H
BEGIN:VTIMEZONE
TZID:America/Chicago
BEGIN:DAYLIGHT
TZOFFSETFROM:-0600
TZOFFSETTO:-0500
TZNAME:CDT
DTSTART:20250309T080000
END:DAYLIGHT
BEGIN:STANDARD
TZOFFSETFROM:-0500
TZOFFSETTO:-0600
TZNAME:CST
DTSTART:20251102T070000
END:STANDARD
BEGIN:DAYLIGHT
TZOFFSETFROM:-0600
TZOFFSETTO:-0500
TZNAME:CDT
DTSTART:20260308T080000
END:DAYLIGHT
BEGIN:STANDARD
TZOFFSETFROM:-0500
TZOFFSETTO:-0600
TZNAME:CST
DTSTART:20261101T070000
END:STANDARD
BEGIN:DAYLIGHT
TZOFFSETFROM:-0600
TZOFFSETTO:-0500
TZNAME:CDT
DTSTART:20270314T080000
END:DAYLIGHT
BEGIN:STANDARD
TZOFFSETFROM:-0500
TZOFFSETTO:-0600
TZNAME:CST
DTSTART:20271107T070000
END:STANDARD
END:VTIMEZONE
BEGIN:VEVENT
DTSTART;TZID=America/Chicago:20260103T160000
DTEND;TZID=America/Chicago:20260103T220000
DTSTAMP:20260421T081138
CREATED:20251227T211246Z
LAST-MODIFIED:20251227T211246Z
UID:32587-1767456000-1767477600@plazamariachi.com
SUMMARY:FREE Dinner Show!!! Three Kings Event\, Live Music\, Games\, Circus Show & More
DESCRIPTION:Get ready for a festive and unforgettable evening of live music\, cultural performances\, and family-friendly entertainment at Plaza Mariachi’s Dinner Show! \nEnjoy a full night of performances celebrating Three Kings Day\, tradition\, and nonstop entertainment: \n🎭 Three Kings Event – 4:00 PM🌿 Cultivate Folklore – 4:15 PM🥖 Rosca de Reyes Raffles – 4:30 PM🎁 Games & 500+ Toy Raffles – 4:45 PM📸 Free Photos with the Three Wise Men – 5:00 PM🎶 Manotas Live Group – 5:45 PM🎪 Circus Show – 7:00 PM🎉 Hora Loca – 7:30 PM🎸 Marrocko Rock Band – 8:30 PM🪗 Norteño Nights – 10:00 PM \nFrom cultural performances and family activities to live music\, circus entertainment\, and late-night dancing\, this Dinner Show offers something for everyone throughout the evening. \n🎟 FREE admission before 9 PM📅 Saturday\, January 3📍 Plaza Mariachi — 3955 Nolensville Pike\, Nashville\, TN 37211 \nJoin us for a night of tradition\, music\, and entertainment — only at Plaza Mariachi.
URL:https://plazamariachi.com/event/free-dinner-show-three-kings-event-live-music-games-circus-show-more/
LOCATION:Plaza Mariachi Music City\, 3955 Nolensville Pike\, Nashville\, TN\, 37211\, United States
CATEGORIES:Circus,Cultural Event,Dance,Family Fun Event,Latin Music,Live Music
ATTACH;FMTTYPE=image/jpeg:https://plazamariachi.com/wp-content/uploads/2025/12/dinner_show_jan_3_fb.jpg
GEO:36.084811;-86.73018
X-APPLE-STRUCTURED-LOCATION;VALUE=URI;X-ADDRESS=Plaza Mariachi Music City 3955 Nolensville Pike Nashville TN 37211 United States;X-APPLE-RADIUS=500;X-TITLE=3955 Nolensville Pike:geo:-86.73018,36.084811
END:VEVENT
END:VCALENDAR