BEGIN:VCALENDAR
VERSION:2.0
PRODID:-//Plaza Mariachi - ECPv6.15.17.1//NONSGML v1.0//EN
CALSCALE:GREGORIAN
METHOD:PUBLISH
X-WR-CALNAME:Plaza Mariachi
X-ORIGINAL-URL:https://plazamariachi.com
X-WR-CALDESC:Events for Plaza Mariachi
REFRESH-INTERVAL;VALUE=DURATION:PT1H
X-Robots-Tag:noindex
X-PUBLISHED-TTL:PT1H
BEGIN:VTIMEZONE
TZID:America/Chicago
BEGIN:DAYLIGHT
TZOFFSETFROM:-0600
TZOFFSETTO:-0500
TZNAME:CDT
DTSTART:20250309T080000
END:DAYLIGHT
BEGIN:STANDARD
TZOFFSETFROM:-0500
TZOFFSETTO:-0600
TZNAME:CST
DTSTART:20251102T070000
END:STANDARD
BEGIN:DAYLIGHT
TZOFFSETFROM:-0600
TZOFFSETTO:-0500
TZNAME:CDT
DTSTART:20260308T080000
END:DAYLIGHT
BEGIN:STANDARD
TZOFFSETFROM:-0500
TZOFFSETTO:-0600
TZNAME:CST
DTSTART:20261101T070000
END:STANDARD
BEGIN:DAYLIGHT
TZOFFSETFROM:-0600
TZOFFSETTO:-0500
TZNAME:CDT
DTSTART:20270314T080000
END:DAYLIGHT
BEGIN:STANDARD
TZOFFSETFROM:-0500
TZOFFSETTO:-0600
TZNAME:CST
DTSTART:20271107T070000
END:STANDARD
END:VTIMEZONE
BEGIN:VEVENT
DTSTART;TZID=America/Chicago:20260110T183000
DTEND;TZID=America/Chicago:20260110T220000
DTSTAMP:20260421T080932
CREATED:20260107T020604Z
LAST-MODIFIED:20260107T020604Z
UID:32714-1768069800-1768082400@plazamariachi.com
SUMMARY:FREE Dinner Show!!! Live Music\, Circus Show\, Hora Loca & More
DESCRIPTION:Join us this Saturday for a full evening of live entertainment\, music\, and high-energy performances at Plaza Mariachi’s Dinner Show. From family-friendly fun early in the night to dancing and live bands later on\, the experience builds all evening with something for everyone. \nThe night kicks off with a Princess Sing-Along featuring Cinderella\, Rapunzel\, and Belle\, followed by a live circus show and Hora Loca to keep the energy high. As the evening continues\, enjoy live music from Marrocko Band and finish the night with Norteño favorites during Noches Norteñas. \n🎶 Evening Lineup:• 6:30 PM – Princess Sing-Along (Cinderella\, Rapunzel & Belle)• 7:00 PM – Circus Show• 7:30 PM – Hora Loca• 8:30 PM – Marrocko Band• 10:00 PM – Noches Norteñas / Banda Relax \n🎟 Free entry before 9 PM📅 Saturday\, January 10📍 Plaza Mariachi — 3955 Nolensville Pike\, Nashville\, TN 37211 \nCome early for the shows\, stay late for the music\, and enjoy a full night of entertainment — only at Plaza Mariachi.
URL:https://plazamariachi.com/event/free-dinner-show-1-10-26/
LOCATION:Plaza Mariachi Music City\, 3955 Nolensville Pike\, Nashville\, TN\, 37211\, United States
CATEGORIES:Circus,Cultural Event,Dance,Family Fun Event,Latin Music,Live Music
ATTACH;FMTTYPE=image/jpeg:https://plazamariachi.com/wp-content/uploads/2026/01/dinner_10_jan_fb.jpg
GEO:36.084811;-86.73018
X-APPLE-STRUCTURED-LOCATION;VALUE=URI;X-ADDRESS=Plaza Mariachi Music City 3955 Nolensville Pike Nashville TN 37211 United States;X-APPLE-RADIUS=500;X-TITLE=3955 Nolensville Pike:geo:-86.73018,36.084811
END:VEVENT
END:VCALENDAR