BEGIN:VCALENDAR
VERSION:2.0
PRODID:-//Plaza Mariachi - ECPv6.15.17.1//NONSGML v1.0//EN
CALSCALE:GREGORIAN
METHOD:PUBLISH
X-WR-CALNAME:Plaza Mariachi
X-ORIGINAL-URL:https://plazamariachi.com
X-WR-CALDESC:Events for Plaza Mariachi
REFRESH-INTERVAL;VALUE=DURATION:PT1H
X-Robots-Tag:noindex
X-PUBLISHED-TTL:PT1H
BEGIN:VTIMEZONE
TZID:America/Chicago
BEGIN:DAYLIGHT
TZOFFSETFROM:-0600
TZOFFSETTO:-0500
TZNAME:CDT
DTSTART:20240310T080000
END:DAYLIGHT
BEGIN:STANDARD
TZOFFSETFROM:-0500
TZOFFSETTO:-0600
TZNAME:CST
DTSTART:20241103T070000
END:STANDARD
BEGIN:DAYLIGHT
TZOFFSETFROM:-0600
TZOFFSETTO:-0500
TZNAME:CDT
DTSTART:20250309T080000
END:DAYLIGHT
BEGIN:STANDARD
TZOFFSETFROM:-0500
TZOFFSETTO:-0600
TZNAME:CST
DTSTART:20251102T070000
END:STANDARD
BEGIN:DAYLIGHT
TZOFFSETFROM:-0600
TZOFFSETTO:-0500
TZNAME:CDT
DTSTART:20260308T080000
END:DAYLIGHT
BEGIN:STANDARD
TZOFFSETFROM:-0500
TZOFFSETTO:-0600
TZNAME:CST
DTSTART:20261101T070000
END:STANDARD
END:VTIMEZONE
BEGIN:VEVENT
DTSTART;TZID=America/Chicago:20251213T110000
DTEND;TZID=America/Chicago:20251213T160000
DTSTAMP:20260423T141552
CREATED:20251204T203313Z
LAST-MODIFIED:20251205T002206Z
UID:32315-1765623600-1765641600@plazamariachi.com
SUMMARY:FREE Christmas Kids Party with Princess Elsa & Anna
DESCRIPTION:Get ready for a full day of holiday fun\, imagination\, and adventure at Plaza Mariachi’s FREE Christmas Kids Party with Elsa and Anna! ❄️🎄 \n🎟️ This is a FREE event open to all families! \nWe’ll begin the morning at 11:00 AM with a family movie on the big screen. Then at 1:00 PM\, the activities begin — bilingual story time\, arts & crafts\, character meet-and-greets featuring Elsa and Anna\, live performances\, and plenty of photo moments to capture the memories! \nThe afternoon continues with games\, contests\, prizes\, and a kids’ dance party — keeping the holiday magic going until 4:00 PM. Plus\, enjoy FREE pictures with Santa from 2:00 PM to 4:00 PM\, face painting\, and more surprises throughout the event! \n📢 Don’t miss out on this FREE Christmas Kids Party — a festive\, family-friendly day full of laughter\, creativity\, and Christmas cheer! \n📅 Saturday\, December 13\, 2025🕓 11:00 AM – 4:00 PM📍 Plaza Mariachi\, 3955 Nolensville Pike\, Nashville\, TN 37211
URL:https://plazamariachi.com/event/free-christmas-kids-party-with-princess-elsa-anna/
LOCATION:Plaza Mariachi Music City\, 3955 Nolensville Pike\, Nashville\, TN\, 37211\, United States
CATEGORIES:Children's Entertainment and Events
ATTACH;FMTTYPE=image/jpeg:https://plazamariachi.com/wp-content/uploads/2025/12/kids_13_dic_fb2.jpg
GEO:36.084811;-86.73018
X-APPLE-STRUCTURED-LOCATION;VALUE=URI;X-ADDRESS=Plaza Mariachi Music City 3955 Nolensville Pike Nashville TN 37211 United States;X-APPLE-RADIUS=500;X-TITLE=3955 Nolensville Pike:geo:-86.73018,36.084811
END:VEVENT
END:VCALENDAR