BEGIN:VCALENDAR
VERSION:2.0
PRODID:-//Plaza Mariachi - ECPv6.15.17.1//NONSGML v1.0//EN
CALSCALE:GREGORIAN
METHOD:PUBLISH
X-WR-CALNAME:Plaza Mariachi
X-ORIGINAL-URL:https://plazamariachi.com
X-WR-CALDESC:Events for Plaza Mariachi
REFRESH-INTERVAL;VALUE=DURATION:PT1H
X-Robots-Tag:noindex
X-PUBLISHED-TTL:PT1H
BEGIN:VTIMEZONE
TZID:America/Chicago
BEGIN:DAYLIGHT
TZOFFSETFROM:-0600
TZOFFSETTO:-0500
TZNAME:CDT
DTSTART:20240310T080000
END:DAYLIGHT
BEGIN:STANDARD
TZOFFSETFROM:-0500
TZOFFSETTO:-0600
TZNAME:CST
DTSTART:20241103T070000
END:STANDARD
BEGIN:DAYLIGHT
TZOFFSETFROM:-0600
TZOFFSETTO:-0500
TZNAME:CDT
DTSTART:20250309T080000
END:DAYLIGHT
BEGIN:STANDARD
TZOFFSETFROM:-0500
TZOFFSETTO:-0600
TZNAME:CST
DTSTART:20251102T070000
END:STANDARD
BEGIN:DAYLIGHT
TZOFFSETFROM:-0600
TZOFFSETTO:-0500
TZNAME:CDT
DTSTART:20260308T080000
END:DAYLIGHT
BEGIN:STANDARD
TZOFFSETFROM:-0500
TZOFFSETTO:-0600
TZNAME:CST
DTSTART:20261101T070000
END:STANDARD
END:VTIMEZONE
BEGIN:VEVENT
DTSTART;TZID=America/Chicago:20250422T180000
DTEND;TZID=America/Chicago:20250422T210000
DTSTAMP:20260422T155535
CREATED:20250414T195545Z
LAST-MODIFIED:20250414T195545Z
UID:29733-1745344800-1745355600@plazamariachi.com
SUMMARY:Fire and Glory Revival Service With Jenny Weaver
DESCRIPTION:Join Jenny Weaver\, Tailah Scroggins and Angela Scafidi for a powerful outpouring of the Holy Spirit at Plaza Mariachi! Hosted by Music City Worship\, leaders from across the city are gathering. Get ready for healing\, deliverance\, worship\, and a fresh move of God. Revival is here. Don’t miss it! \n¡Acompaña a Jenny Weaver\, Tailah Scroggins y Angela Scafidi para un poderoso derramamiento del Espíritu Santo en Plaza Mariachi! Organizado por Music City Worship\, líderes de toda la ciudad se están reuniendo. Prepárate para sanidad\, liberación\, adoración y un nuevo mover de Dios. El avivamiento está aquí. ¡No te lo pierdas!
URL:https://plazamariachi.com/event/fire-and-glory-revival-service-with-jenny-weaver/
LOCATION:Plaza Mariachi Music City\, 3955 Nolensville Pike\, Nashville\, TN\, 37211\, United States
CATEGORIES:Religious
ATTACH;FMTTYPE=image/jpeg:https://plazamariachi.com/wp-content/uploads/2025/04/Jenny-Weaver-Event.jpg
GEO:36.084811;-86.73018
X-APPLE-STRUCTURED-LOCATION;VALUE=URI;X-ADDRESS=Plaza Mariachi Music City 3955 Nolensville Pike Nashville TN 37211 United States;X-APPLE-RADIUS=500;X-TITLE=3955 Nolensville Pike:geo:-86.73018,36.084811
END:VEVENT
END:VCALENDAR