BEGIN:VCALENDAR
VERSION:2.0
PRODID:-//Plaza Mariachi - ECPv6.15.17.1//NONSGML v1.0//EN
CALSCALE:GREGORIAN
METHOD:PUBLISH
X-WR-CALNAME:Plaza Mariachi
X-ORIGINAL-URL:https://plazamariachi.com
X-WR-CALDESC:Events for Plaza Mariachi
REFRESH-INTERVAL;VALUE=DURATION:PT1H
X-Robots-Tag:noindex
X-PUBLISHED-TTL:PT1H
BEGIN:VTIMEZONE
TZID:America/Chicago
BEGIN:DAYLIGHT
TZOFFSETFROM:-0600
TZOFFSETTO:-0500
TZNAME:CDT
DTSTART:20240310T080000
END:DAYLIGHT
BEGIN:STANDARD
TZOFFSETFROM:-0500
TZOFFSETTO:-0600
TZNAME:CST
DTSTART:20241103T070000
END:STANDARD
BEGIN:DAYLIGHT
TZOFFSETFROM:-0600
TZOFFSETTO:-0500
TZNAME:CDT
DTSTART:20250309T080000
END:DAYLIGHT
BEGIN:STANDARD
TZOFFSETFROM:-0500
TZOFFSETTO:-0600
TZNAME:CST
DTSTART:20251102T070000
END:STANDARD
BEGIN:DAYLIGHT
TZOFFSETFROM:-0600
TZOFFSETTO:-0500
TZNAME:CDT
DTSTART:20260308T080000
END:DAYLIGHT
BEGIN:STANDARD
TZOFFSETFROM:-0500
TZOFFSETTO:-0600
TZNAME:CST
DTSTART:20261101T070000
END:STANDARD
END:VTIMEZONE
BEGIN:VEVENT
DTSTART;TZID=America/Chicago:20250713T140000
DTEND;TZID=America/Chicago:20250713T170000
DTSTAMP:20260424T090556
CREATED:20250710T164150Z
LAST-MODIFIED:20250710T164150Z
UID:30396-1752415200-1752426000@plazamariachi.com
SUMMARY:FIFA Club World Cup FINAL: Chelsea vs Paris S. G
DESCRIPTION:FIFA CLUB WORLD CUP FINAL \nChelsea vs Paris S. G \nCome and watch the game for FREE!! \n⚽ Game Day at Plaza Sports Bar – Sunday\, July 13! ⚽\n📍 Plaza Sports Bar inside Plaza Mariachi – 3955 Nolensville Pike\, Nashville\, TN\n🎟️ Free Entry | Cold drinks\, tasty food\, & plenty of screens! \nJoin us at Plaza Sports Bar for an action-packed Sunday of live sports\, featuring the FIFA Club World Cup finale! Whether you’re repping your team or just love a good game-day atmosphere\, we’ve got you covered. \n⚽ Chelsea vs Paris S. G – 2PM  \n⚡ Additional games available on request – just ask your server! \nBring your friends\, grab your favorite drink\, and enjoy the best sports bar vibes in Nashville. Let’s make Sunday a winning one!
URL:https://plazamariachi.com/event/fifa-club-world-cup-final-chelsea-vs-paris-s-g/
LOCATION:Plaza Sports Bar\, 3955 Nolensville Pike\, Nashville\, TN\, 37211\, United States
CATEGORIES:Sports
ATTACH;FMTTYPE=image/jpeg:https://plazamariachi.com/wp-content/uploads/2025/07/FINAL-MUNDIAL-JUL-13-FB.jpg
END:VEVENT
END:VCALENDAR