BEGIN:VCALENDAR
VERSION:2.0
PRODID:-//Plaza Mariachi - ECPv6.15.17.1//NONSGML v1.0//EN
CALSCALE:GREGORIAN
METHOD:PUBLISH
X-WR-CALNAME:Plaza Mariachi
X-ORIGINAL-URL:https://plazamariachi.com
X-WR-CALDESC:Events for Plaza Mariachi
REFRESH-INTERVAL;VALUE=DURATION:PT1H
X-Robots-Tag:noindex
X-PUBLISHED-TTL:PT1H
BEGIN:VTIMEZONE
TZID:America/Chicago
BEGIN:DAYLIGHT
TZOFFSETFROM:-0600
TZOFFSETTO:-0500
TZNAME:CDT
DTSTART:20250309T080000
END:DAYLIGHT
BEGIN:STANDARD
TZOFFSETFROM:-0500
TZOFFSETTO:-0600
TZNAME:CST
DTSTART:20251102T070000
END:STANDARD
BEGIN:DAYLIGHT
TZOFFSETFROM:-0600
TZOFFSETTO:-0500
TZNAME:CDT
DTSTART:20260308T080000
END:DAYLIGHT
BEGIN:STANDARD
TZOFFSETFROM:-0500
TZOFFSETTO:-0600
TZNAME:CST
DTSTART:20261101T070000
END:STANDARD
BEGIN:DAYLIGHT
TZOFFSETFROM:-0600
TZOFFSETTO:-0500
TZNAME:CDT
DTSTART:20270314T080000
END:DAYLIGHT
BEGIN:STANDARD
TZOFFSETFROM:-0500
TZOFFSETTO:-0600
TZNAME:CST
DTSTART:20271107T070000
END:STANDARD
END:VTIMEZONE
BEGIN:VEVENT
DTSTART;TZID=America/Chicago:20260103T160000
DTEND;TZID=America/Chicago:20260103T180000
DTSTAMP:20260423T154610
CREATED:20251227T205220Z
LAST-MODIFIED:20251227T205220Z
UID:32583-1767456000-1767463200@plazamariachi.com
SUMMARY:Fiesta de Reyes
DESCRIPTION:Join us on January 3 for a special Fiesta de Reyes at Plaza Mariachi. It’s a family-friendly celebration rooted in tradition\, community\, and fun. \nWe’ll have raffles\, gifts\, piñatas\, and live music throughout the afternoon\, plus the chance to take FREE photos with the Three Kings — a great way to create memories with your family. 📸👑 \nWe’ll also be sharing FREE Rosca de Reyes and warm champurrado while supplies last. 🥖☕ \nBring your family\, invite friends\, and spend the afternoon together celebrating this meaningful tradition. \n📅 Saturday\, January 3⏰ 4:00 PM – 6:00 PM📍 Plaza Mariachi\, 3955 Nolensville Pike\, Nashville\, TN 37211 \n👑 We hope to see you there.
URL:https://plazamariachi.com/event/fiesta-de-reyes/
LOCATION:Plaza Mariachi Music City\, 3955 Nolensville Pike\, Nashville\, TN\, 37211\, United States
CATEGORIES:Children's Entertainment and Events,Community Event,Family Fun Event
ATTACH;FMTTYPE=image/jpeg:https://plazamariachi.com/wp-content/uploads/2025/12/reyes_3_ene_fb.jpg
GEO:36.084811;-86.73018
X-APPLE-STRUCTURED-LOCATION;VALUE=URI;X-ADDRESS=Plaza Mariachi Music City 3955 Nolensville Pike Nashville TN 37211 United States;X-APPLE-RADIUS=500;X-TITLE=3955 Nolensville Pike:geo:-86.73018,36.084811
END:VEVENT
END:VCALENDAR