BEGIN:VCALENDAR
VERSION:2.0
PRODID:-//Plaza Mariachi - ECPv6.15.17.1//NONSGML v1.0//EN
CALSCALE:GREGORIAN
METHOD:PUBLISH
X-WR-CALNAME:Plaza Mariachi
X-ORIGINAL-URL:https://plazamariachi.com
X-WR-CALDESC:Events for Plaza Mariachi
REFRESH-INTERVAL;VALUE=DURATION:PT1H
X-Robots-Tag:noindex
X-PUBLISHED-TTL:PT1H
BEGIN:VTIMEZONE
TZID:America/Chicago
BEGIN:DAYLIGHT
TZOFFSETFROM:-0600
TZOFFSETTO:-0500
TZNAME:CDT
DTSTART:20250309T080000
END:DAYLIGHT
BEGIN:STANDARD
TZOFFSETFROM:-0500
TZOFFSETTO:-0600
TZNAME:CST
DTSTART:20251102T070000
END:STANDARD
BEGIN:DAYLIGHT
TZOFFSETFROM:-0600
TZOFFSETTO:-0500
TZNAME:CDT
DTSTART:20260308T080000
END:DAYLIGHT
BEGIN:STANDARD
TZOFFSETFROM:-0500
TZOFFSETTO:-0600
TZNAME:CST
DTSTART:20261101T070000
END:STANDARD
BEGIN:DAYLIGHT
TZOFFSETFROM:-0600
TZOFFSETTO:-0500
TZNAME:CDT
DTSTART:20270314T080000
END:DAYLIGHT
BEGIN:STANDARD
TZOFFSETFROM:-0500
TZOFFSETTO:-0600
TZNAME:CST
DTSTART:20271107T070000
END:STANDARD
END:VTIMEZONE
BEGIN:VEVENT
DTSTART;TZID=America/Chicago:20260111T200000
DTEND;TZID=America/Chicago:20260111T210000
DTSTAMP:20260421T174530
CREATED:20260103T000136Z
LAST-MODIFIED:20260104T220520Z
UID:32681-1768161600-1768165200@plazamariachi.com
SUMMARY:Eduin Caz Tribute
DESCRIPTION:Get ready for an explosive night of Regional Mexican music as Plaza Mariachi presents a special Tribute to Eduin Caz\, celebrating the sound\, style\, and energy that have defined a new era of Mexican music. \nExperience a high-energy live performance honoring the hits and stage presence that fans know and love\, bringing the party atmosphere straight to the dance floor. \n🎤 Performing Live: \n\n\nGera Hurtado (Direct from California) \n\n\nLos del Sexto \n\n\nLa Bandononona de Jalisco de Javier Marrón \n\n\nFrom powerful vocals and modern regional hits to full-band energy and nonstop rhythm\, this tribute delivers a night packed with music\, passion\, and celebration. \nBring your friends and family and enjoy an unforgettable evening of live performances — only at Plaza Mariachi. \n🎟 FREE ENTRY \n⏰ 8:00 PM – 9:00 PM📅 Sunday\, January 11📍 Plaza Mariachi — 3955 Nolensville Pike\, Nashville\, TN 37211
URL:https://plazamariachi.com/event/eduin-caz-tribute-1-11-26/
LOCATION:Plaza Mariachi Music City\, 3955 Nolensville Pike\, Nashville\, TN\, 37211\, United States
ATTACH;FMTTYPE=image/jpeg:https://plazamariachi.com/wp-content/uploads/2026/01/eduin_11_ene_fb_.jpeg
GEO:36.084811;-86.73018
X-APPLE-STRUCTURED-LOCATION;VALUE=URI;X-ADDRESS=Plaza Mariachi Music City 3955 Nolensville Pike Nashville TN 37211 United States;X-APPLE-RADIUS=500;X-TITLE=3955 Nolensville Pike:geo:-86.73018,36.084811
END:VEVENT
END:VCALENDAR