BEGIN:VCALENDAR
VERSION:2.0
PRODID:-//Plaza Mariachi - ECPv6.15.17.1//NONSGML v1.0//EN
CALSCALE:GREGORIAN
METHOD:PUBLISH
X-WR-CALNAME:Plaza Mariachi
X-ORIGINAL-URL:https://plazamariachi.com
X-WR-CALDESC:Events for Plaza Mariachi
REFRESH-INTERVAL;VALUE=DURATION:PT1H
X-Robots-Tag:noindex
X-PUBLISHED-TTL:PT1H
BEGIN:VTIMEZONE
TZID:America/Chicago
BEGIN:DAYLIGHT
TZOFFSETFROM:-0600
TZOFFSETTO:-0500
TZNAME:CDT
DTSTART:20240310T080000
END:DAYLIGHT
BEGIN:STANDARD
TZOFFSETFROM:-0500
TZOFFSETTO:-0600
TZNAME:CST
DTSTART:20241103T070000
END:STANDARD
BEGIN:DAYLIGHT
TZOFFSETFROM:-0600
TZOFFSETTO:-0500
TZNAME:CDT
DTSTART:20250309T080000
END:DAYLIGHT
BEGIN:STANDARD
TZOFFSETFROM:-0500
TZOFFSETTO:-0600
TZNAME:CST
DTSTART:20251102T070000
END:STANDARD
BEGIN:DAYLIGHT
TZOFFSETFROM:-0600
TZOFFSETTO:-0500
TZNAME:CDT
DTSTART:20260308T080000
END:DAYLIGHT
BEGIN:STANDARD
TZOFFSETFROM:-0500
TZOFFSETTO:-0600
TZNAME:CST
DTSTART:20261101T070000
END:STANDARD
END:VTIMEZONE
BEGIN:VEVENT
DTSTART;TZID=America/Chicago:20250125T080000
DTEND;TZID=America/Chicago:20250125T170000
DTSTAMP:20260422T000229
CREATED:20250116T220830Z
LAST-MODIFIED:20250116T220830Z
UID:29222-1737792000-1737824400@plazamariachi.com
SUMMARY:Ecuadorian Consulate
DESCRIPTION:¡Atención\, Ecuadorianos!\nEl Consulado de Ecuador llega a Plaza Mariachi este sábado 25 de enero\, de 8 AM a 5 PM. Trámites disponibles: pasaportes y poderes. ¡No te lo pierdas! Más info al 615-565-2222 \nAttention\, Ecuadorians!\nThe Ecuadorian Consulate is coming to Plaza Mariachi this Saturday\, January 25\, from 8 AM to 5 PM. Available services: passports and powers of attorney. Don’t miss it! For more information\, call 615-565-2222.
URL:https://plazamariachi.com/event/ecuadorian-consulate/
LOCATION:Plaza Mariachi Music City\, 3955 Nolensville Pike\, Nashville\, TN\, 37211\, United States
CATEGORIES:Community Event
ATTACH;FMTTYPE=image/jpeg:https://plazamariachi.com/wp-content/uploads/2025/01/consulado-ecu-fb.jpg
GEO:36.084811;-86.73018
X-APPLE-STRUCTURED-LOCATION;VALUE=URI;X-ADDRESS=Plaza Mariachi Music City 3955 Nolensville Pike Nashville TN 37211 United States;X-APPLE-RADIUS=500;X-TITLE=3955 Nolensville Pike:geo:-86.73018,36.084811
END:VEVENT
END:VCALENDAR