BEGIN:VCALENDAR
VERSION:2.0
PRODID:-//Plaza Mariachi - ECPv6.15.17.1//NONSGML v1.0//EN
CALSCALE:GREGORIAN
METHOD:PUBLISH
X-WR-CALNAME:Plaza Mariachi
X-ORIGINAL-URL:https://plazamariachi.com
X-WR-CALDESC:Events for Plaza Mariachi
REFRESH-INTERVAL;VALUE=DURATION:PT1H
X-Robots-Tag:noindex
X-PUBLISHED-TTL:PT1H
BEGIN:VTIMEZONE
TZID:America/Chicago
BEGIN:DAYLIGHT
TZOFFSETFROM:-0600
TZOFFSETTO:-0500
TZNAME:CDT
DTSTART:20240310T080000
END:DAYLIGHT
BEGIN:STANDARD
TZOFFSETFROM:-0500
TZOFFSETTO:-0600
TZNAME:CST
DTSTART:20241103T070000
END:STANDARD
BEGIN:DAYLIGHT
TZOFFSETFROM:-0600
TZOFFSETTO:-0500
TZNAME:CDT
DTSTART:20250309T080000
END:DAYLIGHT
BEGIN:STANDARD
TZOFFSETFROM:-0500
TZOFFSETTO:-0600
TZNAME:CST
DTSTART:20251102T070000
END:STANDARD
BEGIN:DAYLIGHT
TZOFFSETFROM:-0600
TZOFFSETTO:-0500
TZNAME:CDT
DTSTART:20260308T080000
END:DAYLIGHT
BEGIN:STANDARD
TZOFFSETFROM:-0500
TZOFFSETTO:-0600
TZNAME:CST
DTSTART:20261101T070000
END:STANDARD
END:VTIMEZONE
BEGIN:VEVENT
DTSTART;TZID=America/Chicago:20251121T210000
DTEND;TZID=America/Chicago:20251122T020000
DTSTAMP:20260422T121903
CREATED:20251104T032849Z
LAST-MODIFIED:20251116T224131Z
UID:31976-1763758800-1763776800@plazamariachi.com
SUMMARY:Concierto: Titanes de la Cumbia
DESCRIPTION:Join us Friday\, November 21 at Plaza Mariachi Music City for Titanes de la Cumbia — an explosive night of rhythm\, dance\, and celebration featuring: \n🎤 Los Yaguarú de Ángel Venegas🔥 Los Askis – 30th Anniversary Tour💃 Internacional Carro Show🎸 Grupo Mexikolombia🎶 Condor \nExperience Titanes de la Cumbia live — an unforgettable evening filled with energy\, lights\, and the passion of Latin music that will make you feel the heartbeat of Latin America right here in Nashville! \n🎟️ Tickets available at: Ticketón.com or Mazfresco Market💲 First 200 tickets only $60!📞 VIP Table Reservations: 615-709-3159 or 773-367-2900⚠️ 18+ event | 🅿️ Free parking \n🕗 Doors open: 8:00 PM📅 Date: Friday\, November 21\, 2025📍 Location: Plaza Mariachi\, 3955 Nolensville Pike\, Nashville\, TN 37211 \nDon’t just hear the music — feel it live at Plaza Mariachi! 🎤🔥
URL:https://plazamariachi.com/event/concierto-titanes-de-la-cumbia/
LOCATION:Plaza Mariachi Music City\, 3955 Nolensville Pike\, Nashville\, TN\, 37211\, United States
CATEGORIES:Cumbia,Live Music
ATTACH;FMTTYPE=image/jpeg:https://plazamariachi.com/wp-content/uploads/2025/11/titanes_cumbia_askis_21_nov_fb.jpg
GEO:36.084811;-86.73018
X-APPLE-STRUCTURED-LOCATION;VALUE=URI;X-ADDRESS=Plaza Mariachi Music City 3955 Nolensville Pike Nashville TN 37211 United States;X-APPLE-RADIUS=500;X-TITLE=3955 Nolensville Pike:geo:-86.73018,36.084811
END:VEVENT
END:VCALENDAR