BEGIN:VCALENDAR
VERSION:2.0
PRODID:-//Plaza Mariachi - ECPv6.15.17.1//NONSGML v1.0//EN
CALSCALE:GREGORIAN
METHOD:PUBLISH
X-WR-CALNAME:Plaza Mariachi
X-ORIGINAL-URL:https://plazamariachi.com
X-WR-CALDESC:Events for Plaza Mariachi
REFRESH-INTERVAL;VALUE=DURATION:PT1H
X-Robots-Tag:noindex
X-PUBLISHED-TTL:PT1H
BEGIN:VTIMEZONE
TZID:America/Chicago
BEGIN:DAYLIGHT
TZOFFSETFROM:-0600
TZOFFSETTO:-0500
TZNAME:CDT
DTSTART:20250309T080000
END:DAYLIGHT
BEGIN:STANDARD
TZOFFSETFROM:-0500
TZOFFSETTO:-0600
TZNAME:CST
DTSTART:20251102T070000
END:STANDARD
BEGIN:DAYLIGHT
TZOFFSETFROM:-0600
TZOFFSETTO:-0500
TZNAME:CDT
DTSTART:20260308T080000
END:DAYLIGHT
BEGIN:STANDARD
TZOFFSETFROM:-0500
TZOFFSETTO:-0600
TZNAME:CST
DTSTART:20261101T070000
END:STANDARD
BEGIN:DAYLIGHT
TZOFFSETFROM:-0600
TZOFFSETTO:-0500
TZNAME:CDT
DTSTART:20270314T080000
END:DAYLIGHT
BEGIN:STANDARD
TZOFFSETFROM:-0500
TZOFFSETTO:-0600
TZNAME:CST
DTSTART:20271107T070000
END:STANDARD
END:VTIMEZONE
BEGIN:VEVENT
DTSTART;TZID=America/Chicago:20260123T210000
DTEND;TZID=America/Chicago:20260124T020000
DTSTAMP:20260423T141139
CREATED:20251224T014857Z
LAST-MODIFIED:20260120T232941Z
UID:32551-1769202000-1769220000@plazamariachi.com
SUMMARY:Concierto: Los Rieleros del Norte & Los Indomables
DESCRIPTION:🎟️ Tickets available now on Ticketón \nKick off 2026 with an unforgettable night of live regional Mexican music at Plaza Mariachi. This special concert brings together legendary performers for a high-energy evening filled with rhythm\, passion\, and nonstop excitement. \nHeadlining the night are Los Rieleros del Norte and Los Indomables de Cedral\, two iconic groups known for their powerful sound and deep roots in regional Mexican music. The lineup also features a special performance by Grupo Boys\, adding even more energy to the night. \nFrom norteño melodies to high-energy rhythms that keep the crowd moving\, this concert captures the true essence of regional Mexican music and delivers an authentic live music experience for fans of all generations. \nThis is an 18+ event \n📅 Friday\, January 23\, 2026⏰ Concert starts at 9:00 PM📍 Plaza Mariachi – 3955 Nolensville Pike\, Nashville\, TN 37211
URL:https://plazamariachi.com/event/concierto-los-rieleros-del-norte-los-indomables/
LOCATION:Plaza Mariachi Music City\, 3955 Nolensville Pike\, Nashville\, TN\, 37211\, United States
CATEGORIES:Live Music,Regional Mexican Music
ATTACH;FMTTYPE=image/jpeg:https://plazamariachi.com/wp-content/uploads/2025/12/rieleros_23_ene_fb_.jpeg
GEO:36.084811;-86.73018
X-APPLE-STRUCTURED-LOCATION;VALUE=URI;X-ADDRESS=Plaza Mariachi Music City 3955 Nolensville Pike Nashville TN 37211 United States;X-APPLE-RADIUS=500;X-TITLE=3955 Nolensville Pike:geo:-86.73018,36.084811
END:VEVENT
END:VCALENDAR