BEGIN:VCALENDAR
VERSION:2.0
PRODID:-//Plaza Mariachi - ECPv6.15.17.1//NONSGML v1.0//EN
CALSCALE:GREGORIAN
METHOD:PUBLISH
X-WR-CALNAME:Plaza Mariachi
X-ORIGINAL-URL:https://plazamariachi.com
X-WR-CALDESC:Events for Plaza Mariachi
REFRESH-INTERVAL;VALUE=DURATION:PT1H
X-Robots-Tag:noindex
X-PUBLISHED-TTL:PT1H
BEGIN:VTIMEZONE
TZID:America/Chicago
BEGIN:DAYLIGHT
TZOFFSETFROM:-0600
TZOFFSETTO:-0500
TZNAME:CDT
DTSTART:20250309T080000
END:DAYLIGHT
BEGIN:STANDARD
TZOFFSETFROM:-0500
TZOFFSETTO:-0600
TZNAME:CST
DTSTART:20251102T070000
END:STANDARD
BEGIN:DAYLIGHT
TZOFFSETFROM:-0600
TZOFFSETTO:-0500
TZNAME:CDT
DTSTART:20260308T080000
END:DAYLIGHT
BEGIN:STANDARD
TZOFFSETFROM:-0500
TZOFFSETTO:-0600
TZNAME:CST
DTSTART:20261101T070000
END:STANDARD
BEGIN:DAYLIGHT
TZOFFSETFROM:-0600
TZOFFSETTO:-0500
TZNAME:CDT
DTSTART:20270314T080000
END:DAYLIGHT
BEGIN:STANDARD
TZOFFSETFROM:-0500
TZOFFSETTO:-0600
TZNAME:CST
DTSTART:20271107T070000
END:STANDARD
END:VTIMEZONE
BEGIN:VEVENT
DTSTART;TZID=America/Chicago:20260130T210000
DTEND;TZID=America/Chicago:20260131T020000
DTSTAMP:20260423T124016
CREATED:20260110T005723Z
LAST-MODIFIED:20260130T182215Z
UID:32738-1769806800-1769824800@plazamariachi.com
SUMMARY:Concierto: Los Nuevos Chavos Chaka Style
DESCRIPTION:Get ready for a high-energy night of baile and modern Regional Mexican music as Chaka Style takes over Plaza Mariachi. \nThis event brings a nightlife-forward baile experience with live performances by Los Nuevos Chavos Inc and Grupo Nieve\, delivering dance-ready norteño sounds and party energy all night long. Keeping the crowd moving is DJ Junior\, spinning a mix designed for nonstop dancing and late-night vibes. \nFrom the music and style to the crowd and atmosphere\, this is a baile built for those who come ready to dance and enjoy a full night of Regional Mexican nightlife. \n🎶 Live Performances: \n\n\nLos Nuevos Chavos Inc \n\n\nGrupo Nieve \n\n\n🎧 Music by: DJ Junior🔥 Norteño • Baile • Party Vibes \n🎟️ Tickets available on Boxtiks.com \n⏰ 9:00 PM – 2:00 AM📅 Friday\, January 30📍 Plaza Mariachi — 3955 Nolensville Pike\, Nashville\, TN 37211 \nJoin us for a night of music\, movement\, and Chaka-style energy — only at Plaza Mariachi.
URL:https://plazamariachi.com/event/concierto-los-nuevos-chavos-chaka-style/
LOCATION:Plaza Mariachi Music City\, 3955 Nolensville Pike\, Nashville\, TN\, 37211\, United States
CATEGORIES:Live Music,Regional Mexican Music
ATTACH;FMTTYPE=image/png:https://plazamariachi.com/wp-content/uploads/2026/01/chaka_30_jan_fb_.png
GEO:36.084811;-86.73018
X-APPLE-STRUCTURED-LOCATION;VALUE=URI;X-ADDRESS=Plaza Mariachi Music City 3955 Nolensville Pike Nashville TN 37211 United States;X-APPLE-RADIUS=500;X-TITLE=3955 Nolensville Pike:geo:-86.73018,36.084811
END:VEVENT
END:VCALENDAR